Back to Build/check report for BioC 3.13 experimental data
ABCDEFGHIJKLMNOPQR[S]TUVWXYZ

This page was generated on 2021-07-24 15:59:56 -0400 (Sat, 24 Jul 2021).

All results for package SNAData

To the developers/maintainers of the SNAData package:
Make sure to use the following settings in order to reproduce any error or warning you see on this page.

raw results

Package 355/406HostnameOS / ArchINSTALLBUILDCHECK
SNAData 1.38.0  (landing page)
Denise Scholtens
Snapshot Date: 2021-07-24 09:30:05 -0400 (Sat, 24 Jul 2021)
URL: https://git.bioconductor.org/packages/SNAData
Branch: RELEASE_3_13
Last Commit: 626c979
Last Changed Date: 2021-05-19 11:25:45 -0400 (Wed, 19 May 2021)
malbec2Linux (Ubuntu 20.04.2 LTS) / x86_64  OK    OK    OK  UNNEEDED, same version is already published