Back to Multiple platform build/check report for BioC 3.13 experimental data
ABCDEFGHIJKLMNOPQ[R]STUVWXYZ

Multiple platform build/check report for BioC 3.13 experimental data

All results for package RforProteomics

This page was generated on 2021-05-15 15:58:52 -0400 (Sat, 15 May 2021).

Package 308/406HostnameOS / ArchINSTALLBUILDCHECK
RforProteomics 1.29.2  (landing page)
Laurent Gatto
Snapshot Date: 2021-05-15 09:30:06 -0400 (Sat, 15 May 2021)
URL: https://git.bioconductor.org/packages/RforProteomics
Branch: master
Last Commit: 68db25d
Last Changed Date: 2020-12-09 16:21:27 -0400 (Wed, 09 Dec 2020)
malbec2Linux (Ubuntu 20.04.2 LTS) / x86_64  OK    ERROR  skipped
riesling1Windows Server 2019 Standard / x64  OK    OK    WARNINGS