Back to Build/check report for BioC 3.13 experimental data
ABCDEFG[H]IJKLMNOPQRSTUVWXYZ

This page was generated on 2021-07-24 15:59:56 -0400 (Sat, 24 Jul 2021).

All results for package HIVcDNAvantWout03

To the developers/maintainers of the HIVcDNAvantWout03 package:
Make sure to use the following settings in order to reproduce any error or warning you see on this page.

raw results

Package 182/406HostnameOS / ArchINSTALLBUILDCHECK
HIVcDNAvantWout03 1.32.0  (landing page)
Chris Fraley
Snapshot Date: 2021-07-24 09:30:05 -0400 (Sat, 24 Jul 2021)
URL: https://git.bioconductor.org/packages/HIVcDNAvantWout03
Branch: RELEASE_3_13
Last Commit: b950ec1
Last Changed Date: 2021-05-19 11:25:20 -0400 (Wed, 19 May 2021)
malbec2Linux (Ubuntu 20.04.2 LTS) / x86_64  OK    OK    WARNINGS  UNNEEDED, same version is already published