Back to Books build report for BioC 3.13

More about malbec2

Hostname: malbec2
OS: Linux (Ubuntu 20.04.2 LTS)
Arch: x86_64
Platform: x86_64-linux-gnu
R version: 4.1.0 alpha (2021-05-01 r80254)
R environment variables: Renviron.bioc

C compiler

R variable (VAR)Value ('R CMD config <VAR>' output)
CCgcc
CFLAGS-g -O2 -Wall
CPICFLAGS-fpic
Please refer to 'R CMD config -h' for the meaning of these variables

Compiler version ('gcc --version' output):

gcc (Ubuntu 9.3.0-17ubuntu1~20.04) 9.3.0
Copyright (C) 2019 Free Software Foundation, Inc.
This is free software; see the source for copying conditions.  There is NO
warranty; not even for MERCHANTABILITY or FITNESS FOR A PARTICULAR PURPOSE.


C++ compiler

R variable (VAR)Value ('R CMD config <VAR>' output)
CXXg++ -std=gnu++14
CXXFLAGS-g -O2 -Wall
CXXPICFLAGS-fpic
Please refer to 'R CMD config -h' for the meaning of these variables

Compiler version ('g++ -std=gnu++14 --version' output):

g++ (Ubuntu 9.3.0-17ubuntu1~20.04) 9.3.0
Copyright (C) 2019 Free Software Foundation, Inc.
This is free software; see the source for copying conditions.  There is NO
warranty; not even for MERCHANTABILITY or FITNESS FOR A PARTICULAR PURPOSE.


C++11 compiler

R variable (VAR)Value ('R CMD config <VAR>' output)
CXX11g++
CXX11FLAGS-g -O2 -Wall
CXX11PICFLAGS-fpic
CXX11STD-std=gnu++11
Please refer to 'R CMD config -h' for the meaning of these variables

Compiler version ('g++ --version' output):

g++ (Ubuntu 9.3.0-17ubuntu1~20.04) 9.3.0
Copyright (C) 2019 Free Software Foundation, Inc.
This is free software; see the source for copying conditions.  There is NO
warranty; not even for MERCHANTABILITY or FITNESS FOR A PARTICULAR PURPOSE.


C++14 compiler

R variable (VAR)Value ('R CMD config <VAR>' output)
CXX14g++
CXX14FLAGS-O3 -march=native -mtune=native -fPIC
CXX14PICFLAGS-fpic
CXX14STD-std=gnu++14
Please refer to 'R CMD config -h' for the meaning of these variables

Compiler version ('g++ --version' output):

g++ (Ubuntu 9.3.0-17ubuntu1~20.04) 9.3.0
Copyright (C) 2019 Free Software Foundation, Inc.
This is free software; see the source for copying conditions.  There is NO
warranty; not even for MERCHANTABILITY or FITNESS FOR A PARTICULAR PURPOSE.


C++17 compiler

R variable (VAR)Value ('R CMD config <VAR>' output)
CXX17g++
CXX17FLAGS-g -O2
CXX17PICFLAGS-fpic
CXX17STD-std=gnu++17
Please refer to 'R CMD config -h' for the meaning of these variables

Compiler version ('g++ --version' output):

g++ (Ubuntu 9.3.0-17ubuntu1~20.04) 9.3.0
Copyright (C) 2019 Free Software Foundation, Inc.
This is free software; see the source for copying conditions.  There is NO
warranty; not even for MERCHANTABILITY or FITNESS FOR A PARTICULAR PURPOSE.


More information might be added in the future...