Back to Books build report for BioC 3.13

BUILD report for csawBook on malbec2

This page was generated on 2021-05-07 12:45:05 -0400 (Fri, 07 May 2021).

To the developers/maintainers of the csawBook package:
Please make sure to use the following settings in order to reproduce any error or warning you see on this page.
Package 1/8HostnameOS / ArchINSTALLBUILD
csawBook 0.99.4  (landing page)
Aaron Lun
Snapshot Date: 2021-05-07 03:30:02 -0400 (Fri, 07 May 2021)
URL: https://git.bioconductor.org/packages/csawBook
Branch: master
Last Commit: ee61653
Last Changed Date: 2021-02-08 02:50:21 -0400 (Mon, 08 Feb 2021)
malbec2Linux (Ubuntu 20.04.2 LTS) / x86_64  OK    OK  UNNEEDED, same version exists in internal repository

Summary

Package: csawBook
Version: 0.99.4
Command: /home/biocbuild/bbs-3.13-bioc/R/bin/R CMD build --keep-empty-dirs --no-resave-data csawBook
StartedAt: 2021-05-07 04:02:30 -0400 (Fri, 07 May 2021)
EndedAt: 2021-05-07 05:31:18 -0400 (Fri, 07 May 2021)
EllapsedTime: 5327.4 seconds
RetCode: 0
Status:   OK  
PackageFile: csawBook_0.99.4.tar.gz
PackageFileSize: 2.497 MiB

Command output

##############################################################################
##############################################################################
###
### Running command:
###
###   /home/biocbuild/bbs-3.13-bioc/R/bin/R CMD build --keep-empty-dirs --no-resave-data csawBook
###
##############################################################################
##############################################################################


* checking for file ‘csawBook/DESCRIPTION’ ... OK
* preparing ‘csawBook’:
* checking DESCRIPTION meta-information ... OK
* installing the package to build vignettes
* creating vignettes ... OK
* checking for LF line-endings in source and make files and shell scripts
* checking for empty or unneeded directories
* creating default NAMESPACE file
* building ‘csawBook_0.99.4.tar.gz’