Back to Books build report for BioC 3.13

Books build report for BioC 3.13

All results for package csawBook

This page was generated on 2021-05-07 12:45:05 -0400 (Fri, 07 May 2021).

Package 1/8HostnameOS / ArchINSTALLBUILD
csawBook 0.99.4  (landing page)
Aaron Lun
Snapshot Date: 2021-05-07 03:30:02 -0400 (Fri, 07 May 2021)
URL: https://git.bioconductor.org/packages/csawBook
Branch: master
Last Commit: ee61653
Last Changed Date: 2021-02-08 02:50:21 -0400 (Mon, 08 Feb 2021)
malbec2Linux (Ubuntu 20.04.2 LTS) / x86_64  OK    OK  UNNEEDED, same version exists in internal repository