Back to Books build report for BioC 3.13

INSTALL report for SingleRBook on malbec2

This page was generated on 2021-05-07 12:45:05 -0400 (Fri, 07 May 2021).

To the developers/maintainers of the SingleRBook package:
Please make sure to use the following settings in order to reproduce any error or warning you see on this page.
Package 8/8HostnameOS / ArchINSTALLBUILD
SingleRBook 1.1.2  (landing page)
Aaron Lun
Snapshot Date: 2021-05-07 03:30:02 -0400 (Fri, 07 May 2021)
URL: https://git.bioconductor.org/packages/SingleRBook
Branch: master
Last Commit: 8ab64af
Last Changed Date: 2021-02-08 02:49:24 -0400 (Mon, 08 Feb 2021)
malbec2Linux (Ubuntu 20.04.2 LTS) / x86_64  OK    OK  UNNEEDED, same version exists in internal repository

Summary

Package: SingleRBook
Version: 1.1.2
Command: /home/biocbuild/bbs-3.13-bioc/R/bin/R CMD INSTALL SingleRBook
StartedAt: 2021-05-07 04:01:12 -0400 (Fri, 07 May 2021)
EndedAt: 2021-05-07 04:01:13 -0400 (Fri, 07 May 2021)
EllapsedTime: 1.1 seconds
RetCode: 0
Status:   OK  

Command output

##############################################################################
##############################################################################
###
### Running command:
###
###   /home/biocbuild/bbs-3.13-bioc/R/bin/R CMD INSTALL SingleRBook
###
##############################################################################
##############################################################################


* installing to library ‘/home/biocbuild/bbs-3.13-bioc/R/library’
* installing *source* package ‘SingleRBook’ ...
** using staged installation
** help
No man pages found in package  ‘SingleRBook’ 
*** installing help indices
** building package indices
** installing vignettes
** testing if installed package can be loaded from temporary location
** testing if installed package can be loaded from final location
** testing if installed package keeps a record of temporary installation path
* DONE (SingleRBook)