Back to Books build report for BioC 3.13

BUILD report for SingleRBook on malbec2

This page was generated on 2021-05-07 12:45:05 -0400 (Fri, 07 May 2021).

To the developers/maintainers of the SingleRBook package:
Please make sure to use the following settings in order to reproduce any error or warning you see on this page.
Package 8/8HostnameOS / ArchINSTALLBUILD
SingleRBook 1.1.2  (landing page)
Aaron Lun
Snapshot Date: 2021-05-07 03:30:02 -0400 (Fri, 07 May 2021)
URL: https://git.bioconductor.org/packages/SingleRBook
Branch: master
Last Commit: 8ab64af
Last Changed Date: 2021-02-08 02:49:24 -0400 (Mon, 08 Feb 2021)
malbec2Linux (Ubuntu 20.04.2 LTS) / x86_64  OK    OK  UNNEEDED, same version exists in internal repository

Summary

Package: SingleRBook
Version: 1.1.2
Command: /home/biocbuild/bbs-3.13-bioc/R/bin/R CMD build --keep-empty-dirs --no-resave-data SingleRBook
StartedAt: 2021-05-07 04:02:30 -0400 (Fri, 07 May 2021)
EndedAt: 2021-05-07 04:46:02 -0400 (Fri, 07 May 2021)
EllapsedTime: 2611.9 seconds
RetCode: 0
Status:   OK  
PackageFile: SingleRBook_1.1.2.tar.gz
PackageFileSize: 10.46 MiB

Command output

##############################################################################
##############################################################################
###
### Running command:
###
###   /home/biocbuild/bbs-3.13-bioc/R/bin/R CMD build --keep-empty-dirs --no-resave-data SingleRBook
###
##############################################################################
##############################################################################


* checking for file ‘SingleRBook/DESCRIPTION’ ... OK
* preparing ‘SingleRBook’:
* checking DESCRIPTION meta-information ... OK
* installing the package to build vignettes
* creating vignettes ... OK
* checking for LF line-endings in source and make files and shell scripts
* checking for empty or unneeded directories
* creating default NAMESPACE file
* building ‘SingleRBook_1.1.2.tar.gz’