Back to Books build report for BioC 3.13

INSTALL report for OSCA.workflows on malbec2

This page was generated on 2021-05-07 12:45:05 -0400 (Fri, 07 May 2021).

To the developers/maintainers of the OSCA.workflows package:
Please make sure to use the following settings in order to reproduce any error or warning you see on this page.
Package 7/8HostnameOS / ArchINSTALLBUILD
OSCA.workflows 0.99.10  (landing page)
Aaron Lun
Snapshot Date: 2021-05-07 03:30:02 -0400 (Fri, 07 May 2021)
URL: https://git.bioconductor.org/packages/OSCA.workflows
Branch: master
Last Commit: d007b4f
Last Changed Date: 2021-04-06 04:17:07 -0400 (Tue, 06 Apr 2021)
malbec2Linux (Ubuntu 20.04.2 LTS) / x86_64  OK    OK  UNNEEDED, same version exists in internal repository

Summary

Package: OSCA.workflows
Version: 0.99.10
Command: /home/biocbuild/bbs-3.13-bioc/R/bin/R CMD INSTALL OSCA.workflows
StartedAt: 2021-05-07 04:01:12 -0400 (Fri, 07 May 2021)
EndedAt: 2021-05-07 04:01:47 -0400 (Fri, 07 May 2021)
EllapsedTime: 35.0 seconds
RetCode: 0
Status:   OK  

Command output

##############################################################################
##############################################################################
###
### Running command:
###
###   /home/biocbuild/bbs-3.13-bioc/R/bin/R CMD INSTALL OSCA.workflows
###
##############################################################################
##############################################################################


* installing to library ‘/home/biocbuild/bbs-3.13-bioc/R/library’
* installing *source* package ‘OSCA.workflows’ ...
** using staged installation
** inst
** help
No man pages found in package  ‘OSCA.workflows’ 
*** installing help indices
** building package indices
** installing vignettes
** testing if installed package can be loaded from temporary location
** testing if installed package can be loaded from final location
** testing if installed package keeps a record of temporary installation path
* DONE (OSCA.workflows)