Back to Books build report for BioC 3.13

BUILD report for OSCA.workflows on malbec2

This page was generated on 2021-05-07 12:45:05 -0400 (Fri, 07 May 2021).

To the developers/maintainers of the OSCA.workflows package:
Please make sure to use the following settings in order to reproduce any error or warning you see on this page.
Package 7/8HostnameOS / ArchINSTALLBUILD
OSCA.workflows 0.99.10  (landing page)
Aaron Lun
Snapshot Date: 2021-05-07 03:30:02 -0400 (Fri, 07 May 2021)
URL: https://git.bioconductor.org/packages/OSCA.workflows
Branch: master
Last Commit: d007b4f
Last Changed Date: 2021-04-06 04:17:07 -0400 (Tue, 06 Apr 2021)
malbec2Linux (Ubuntu 20.04.2 LTS) / x86_64  OK    OK  UNNEEDED, same version exists in internal repository

Summary

Package: OSCA.workflows
Version: 0.99.10
Command: /home/biocbuild/bbs-3.13-bioc/R/bin/R CMD build --keep-empty-dirs --no-resave-data OSCA.workflows
StartedAt: 2021-05-07 04:02:30 -0400 (Fri, 07 May 2021)
EndedAt: 2021-05-07 05:31:31 -0400 (Fri, 07 May 2021)
EllapsedTime: 5340.5 seconds
RetCode: 0
Status:   OK  
PackageFile: OSCA.workflows_0.99.10.tar.gz
PackageFileSize: 15.86 MiB

Command output

##############################################################################
##############################################################################
###
### Running command:
###
###   /home/biocbuild/bbs-3.13-bioc/R/bin/R CMD build --keep-empty-dirs --no-resave-data OSCA.workflows
###
##############################################################################
##############################################################################


* checking for file ‘OSCA.workflows/DESCRIPTION’ ... OK
* preparing ‘OSCA.workflows’:
* checking DESCRIPTION meta-information ... OK
* installing the package to build vignettes
* creating vignettes ... OK
* checking for LF line-endings in source and make files and shell scripts
* checking for empty or unneeded directories
* creating default NAMESPACE file
* building ‘OSCA.workflows_0.99.10.tar.gz’
Warning in utils::tar(filepath, pkgname, compression = compression, compression_level = 9L,  :
  storing paths of more than 100 bytes is not portable:
  ‘OSCA.workflows/inst/doc/book/tenx-unfiltered-pbmc4k_files/figure-html/unref-unfiltered-pbmc-mito-1.png’
Warning in utils::tar(filepath, pkgname, compression = compression, compression_level = 9L,  :
  storing paths of more than 100 bytes is not portable:
  ‘OSCA.workflows/inst/doc/book/tenx-unfiltered-pbmc4k_files/figure-html/unref-unfiltered-pbmc-norm-1.png’
Warning in utils::tar(filepath, pkgname, compression = compression, compression_level = 9L,  :
  storing paths of more than 100 bytes is not portable:
  ‘OSCA.workflows/inst/doc/book/tenx-unfiltered-pbmc4k_files/figure-html/unref-unfiltered-pbmc-tsne-1.png’
Warning in utils::tar(filepath, pkgname, compression = compression, compression_level = 9L,  :
  storing paths of more than 100 bytes is not portable:
  ‘OSCA.workflows/inst/doc/book/tenx-unfiltered-pbmc4k_files/figure-html/unref-unfiltered-pbmc-var-1.png’