Back to Books build report for BioC 3.13

Books build report for BioC 3.13

All results for package OSCA.workflows

This page was generated on 2021-05-07 12:45:05 -0400 (Fri, 07 May 2021).

Package 7/8HostnameOS / ArchINSTALLBUILD
OSCA.workflows 0.99.10  (landing page)
Aaron Lun
Snapshot Date: 2021-05-07 03:30:02 -0400 (Fri, 07 May 2021)
URL: https://git.bioconductor.org/packages/OSCA.workflows
Branch: master
Last Commit: d007b4f
Last Changed Date: 2021-04-06 04:17:07 -0400 (Tue, 06 Apr 2021)
malbec2Linux (Ubuntu 20.04.2 LTS) / x86_64  OK    OK  UNNEEDED, same version exists in internal repository