Back to Books build report for BioC 3.13

BUILD report for OSCA.multisample on malbec2

This page was generated on 2021-05-07 12:45:05 -0400 (Fri, 07 May 2021).

To the developers/maintainers of the OSCA.multisample package:
Please make sure to use the following settings in order to reproduce any error or warning you see on this page.
Package 6/8HostnameOS / ArchINSTALLBUILD
OSCA.multisample 0.99.9  (landing page)
Aaron Lun
Snapshot Date: 2021-05-07 03:30:02 -0400 (Fri, 07 May 2021)
URL: https://git.bioconductor.org/packages/OSCA.multisample
Branch: master
Last Commit: af38204
Last Changed Date: 2021-05-02 01:05:02 -0400 (Sun, 02 May 2021)
malbec2Linux (Ubuntu 20.04.2 LTS) / x86_64  OK    OK  UNNEEDED, same version exists in internal repository

Summary

Package: OSCA.multisample
Version: 0.99.9
Command: /home/biocbuild/bbs-3.13-bioc/R/bin/R CMD build --keep-empty-dirs --no-resave-data OSCA.multisample
StartedAt: 2021-05-07 04:02:30 -0400 (Fri, 07 May 2021)
EndedAt: 2021-05-07 06:04:24 -0400 (Fri, 07 May 2021)
EllapsedTime: 7313.7 seconds
RetCode: 0
Status:   OK  
PackageFile: OSCA.multisample_0.99.9.tar.gz
PackageFileSize: 10.36 MiB

Command output

##############################################################################
##############################################################################
###
### Running command:
###
###   /home/biocbuild/bbs-3.13-bioc/R/bin/R CMD build --keep-empty-dirs --no-resave-data OSCA.multisample
###
##############################################################################
##############################################################################


* checking for file ‘OSCA.multisample/DESCRIPTION’ ... OK
* preparing ‘OSCA.multisample’:
* checking DESCRIPTION meta-information ... OK
* installing the package to build vignettes
* creating vignettes ... OK
* checking for LF line-endings in source and make files and shell scripts
* checking for empty or unneeded directories
* creating default NAMESPACE file
* building ‘OSCA.multisample_0.99.9.tar.gz’
Warning in utils::tar(filepath, pkgname, compression = compression, compression_level = 9L,  :
  storing paths of more than 100 bytes is not portable:
  ‘OSCA.multisample/inst/doc/book/tenx-filtered-pbmc3k-4k-8k_files/figure-html/unref-filtered-pbmc-merged-tsne-1.png’
Warning in utils::tar(filepath, pkgname, compression = compression, compression_level = 9L,  :
  storing paths of more than 100 bytes is not portable:
  ‘OSCA.multisample/inst/doc/book/tenx-filtered-pbmc3k-4k-8k_files/figure-html/unref-filtered-pbmc-tsne-1.png’
Warning in utils::tar(filepath, pkgname, compression = compression, compression_level = 9L,  :
  storing paths of more than 100 bytes is not portable:
  ‘OSCA.multisample/inst/doc/book/tenx-filtered-pbmc3k-4k-8k_files/figure-html/unref-filtered-pbmc-variance-1.png’
Warning in utils::tar(filepath, pkgname, compression = compression, compression_level = 9L,  :
  storing paths of more than 100 bytes is not portable:
  ‘OSCA.multisample/inst/doc/book/tenx-filtered-pbmc3k-4k-8k_files/figure-html/unref-pbmc-filtered-var-1.png’
Warning in utils::tar(filepath, pkgname, compression = compression, compression_level = 9L,  :
  storing paths of more than 100 bytes is not portable:
  ‘OSCA.multisample/inst/doc/book/using-corrected-values_files/figure-html/seger-beta-ins-corrected-1.png’