Back to Books build report for BioC 3.13

BUILD report for OSCA.intro on malbec2

This page was generated on 2021-05-07 12:45:05 -0400 (Fri, 07 May 2021).

To the developers/maintainers of the OSCA.intro package:
Please make sure to use the following settings in order to reproduce any error or warning you see on this page.
Package 5/8HostnameOS / ArchINSTALLBUILD
OSCA.intro 0.99.7  (landing page)
Aaron Lun
Snapshot Date: 2021-05-07 03:30:02 -0400 (Fri, 07 May 2021)
URL: https://git.bioconductor.org/packages/OSCA.intro
Branch: master
Last Commit: 7259de7
Last Changed Date: 2021-04-21 01:15:39 -0400 (Wed, 21 Apr 2021)
malbec2Linux (Ubuntu 20.04.2 LTS) / x86_64  OK    OK  UNNEEDED, same version exists in internal repository

Summary

Package: OSCA.intro
Version: 0.99.7
Command: /home/biocbuild/bbs-3.13-bioc/R/bin/R CMD build --keep-empty-dirs --no-resave-data OSCA.intro
StartedAt: 2021-05-07 04:02:30 -0400 (Fri, 07 May 2021)
EndedAt: 2021-05-07 04:12:28 -0400 (Fri, 07 May 2021)
EllapsedTime: 598.0 seconds
RetCode: 0
Status:   OK  
PackageFile: OSCA.intro_0.99.7.tar.gz
PackageFileSize: 1.333 MiB

Command output

##############################################################################
##############################################################################
###
### Running command:
###
###   /home/biocbuild/bbs-3.13-bioc/R/bin/R CMD build --keep-empty-dirs --no-resave-data OSCA.intro
###
##############################################################################
##############################################################################


* checking for file ‘OSCA.intro/DESCRIPTION’ ... OK
* preparing ‘OSCA.intro’:
* checking DESCRIPTION meta-information ... OK
* installing the package to build vignettes
* creating vignettes ... OK
* checking for LF line-endings in source and make files and shell scripts
* checking for empty or unneeded directories
* building ‘OSCA.intro_0.99.7.tar.gz’