Back to Books build report for BioC 3.13

Books build report for BioC 3.13

All results for package OSCA.basic

This page was generated on 2021-05-07 12:45:05 -0400 (Fri, 07 May 2021).

Package 4/8HostnameOS / ArchINSTALLBUILD
OSCA.basic 0.99.14  (landing page)
Aaron Lun
Snapshot Date: 2021-05-07 03:30:02 -0400 (Fri, 07 May 2021)
URL: https://git.bioconductor.org/packages/OSCA.basic
Branch: master
Last Commit: 0415b64
Last Changed Date: 2021-05-02 01:45:52 -0400 (Sun, 02 May 2021)
malbec2Linux (Ubuntu 20.04.2 LTS) / x86_64  OK    ERROR