Back to Books build report for BioC 3.13

BUILD report for OSCA.advanced on malbec2

This page was generated on 2021-05-07 12:45:05 -0400 (Fri, 07 May 2021).

To the developers/maintainers of the OSCA.advanced package:
Please make sure to use the following settings in order to reproduce any error or warning you see on this page.
Package 3/8HostnameOS / ArchINSTALLBUILD
OSCA.advanced 0.99.18  (landing page)
Aaron Lun
Snapshot Date: 2021-05-07 03:30:02 -0400 (Fri, 07 May 2021)
URL: https://git.bioconductor.org/packages/OSCA.advanced
Branch: master
Last Commit: 2915ad2
Last Changed Date: 2021-04-24 02:25:12 -0400 (Sat, 24 Apr 2021)
malbec2Linux (Ubuntu 20.04.2 LTS) / x86_64  OK    OK  UNNEEDED, same version exists in internal repository

Summary

Package: OSCA.advanced
Version: 0.99.18
Command: /home/biocbuild/bbs-3.13-bioc/R/bin/R CMD build --keep-empty-dirs --no-resave-data OSCA.advanced
StartedAt: 2021-05-07 04:02:30 -0400 (Fri, 07 May 2021)
EndedAt: 2021-05-07 06:28:56 -0400 (Fri, 07 May 2021)
EllapsedTime: 8785.5 seconds
RetCode: 0
Status:   OK  
PackageFile: OSCA.advanced_0.99.18.tar.gz
PackageFileSize: 19.71 MiB

Command output

##############################################################################
##############################################################################
###
### Running command:
###
###   /home/biocbuild/bbs-3.13-bioc/R/bin/R CMD build --keep-empty-dirs --no-resave-data OSCA.advanced
###
##############################################################################
##############################################################################


* checking for file ‘OSCA.advanced/DESCRIPTION’ ... OK
* preparing ‘OSCA.advanced’:
* checking DESCRIPTION meta-information ... OK
* installing the package to build vignettes
* creating vignettes ... OK
* checking for LF line-endings in source and make files and shell scripts
* checking for empty or unneeded directories
* creating default NAMESPACE file
* building ‘OSCA.advanced_0.99.18.tar.gz’
Warning in utils::tar(filepath, pkgname, compression = compression, compression_level = 9L,  :
  storing paths of more than 100 bytes is not portable:
  ‘OSCA.advanced/inst/doc/book/droplet-processing_files/figure-html/mammary-swapped-barcode-rank-after-1.png’