Back to Multiple platform build/check report for BioC 3.13
ABCDEFGHIJKLMNOPQRS[T]UVWXYZ

This page was generated on 2021-06-17 02:39:27 -0400 (Thu, 17 Jun 2021).

CHECK results for transcriptogramer on machv2

To the developers/maintainers of the transcriptogramer package:
- Please allow up to 24 hours (and sometimes 48 hours) for your latest push to git@git.bioconductor.org:packages/transcriptogramer.git to
reflect on this report. See How and When does the builder pull? When will my changes propagate? here for more information.
- Make sure to use the following settings in order to reproduce any error or warning you see on this page.

raw results

Package 1946/2041HostnameOS / ArchINSTALLBUILDCHECKBUILD BIN
transcriptogramer 1.14.0  (landing page)
Diego Morais
Snapshot Date: 2021-06-15 06:50:12 -0400 (Tue, 15 Jun 2021)
URL: https://git.bioconductor.org/packages/transcriptogramer
Branch: RELEASE_3_13
Last Commit: 33f0ca5
Last Changed Date: 2021-05-19 12:31:57 -0400 (Wed, 19 May 2021)
nebbiolo1Linux (Ubuntu 20.04.2 LTS) / x86_64  OK    OK    OK  UNNEEDED, same version is already published
tokay2Windows Server 2012 R2 Standard / x64  OK    OK    OK    OK  UNNEEDED, same version is already published
machv2macOS 10.14.6 Mojave / x86_64  OK    OK    OK    OK  UNNEEDED, same version is already published

Summary

Package: transcriptogramer
Version: 1.14.0
Command: /Library/Frameworks/R.framework/Versions/Current/Resources/bin/R CMD check --install=check:transcriptogramer.install-out.txt --library=/Library/Frameworks/R.framework/Versions/Current/Resources/library --no-vignettes --timings transcriptogramer_1.14.0.tar.gz
StartedAt: 2021-06-16 00:43:22 -0400 (Wed, 16 Jun 2021)
EndedAt: 2021-06-16 00:48:29 -0400 (Wed, 16 Jun 2021)
EllapsedTime: 306.5 seconds
RetCode: 0
Status:   OK  
CheckDir: transcriptogramer.Rcheck
Warnings: 0

Command output

##############################################################################
##############################################################################
###
### Running command:
###
###   /Library/Frameworks/R.framework/Versions/Current/Resources/bin/R CMD check --install=check:transcriptogramer.install-out.txt --library=/Library/Frameworks/R.framework/Versions/Current/Resources/library --no-vignettes --timings transcriptogramer_1.14.0.tar.gz
###
##############################################################################
##############################################################################


* using log directory ‘/Users/biocbuild/bbs-3.13-bioc/meat/transcriptogramer.Rcheck’
* using R version 4.1.0 (2021-05-18)
* using platform: x86_64-apple-darwin17.0 (64-bit)
* using session charset: UTF-8
* using option ‘--no-vignettes’
* checking for file ‘transcriptogramer/DESCRIPTION’ ... OK
* checking extension type ... Package
* this is package ‘transcriptogramer’ version ‘1.14.0’
* package encoding: UTF-8
* checking package namespace information ... OK
* checking package dependencies ... OK
* checking if this is a source package ... OK
* checking if there is a namespace ... OK
* checking for hidden files and directories ... NOTE
Found the following hidden files and directories:
  .git_fetch_output.txt
  .git_merge_output.txt
These were most likely included in error. See section ‘Package
structure’ in the ‘Writing R Extensions’ manual.
* checking for portable file names ... OK
* checking for sufficient/correct file permissions ... OK
* checking whether package ‘transcriptogramer’ can be installed ... OK
* checking installed package size ... NOTE
  installed size is  6.5Mb
  sub-directories of 1Mb or more:
    data   5.8Mb
* checking package directory ... OK
* checking ‘build’ directory ... OK
* checking DESCRIPTION meta-information ... OK
* checking top-level files ... OK
* checking for left-over files ... OK
* checking index information ... OK
* checking package subdirectories ... OK
* checking R files for non-ASCII characters ... OK
* checking R files for syntax errors ... OK
* checking whether the package can be loaded ... OK
* checking whether the package can be loaded with stated dependencies ... OK
* checking whether the package can be unloaded cleanly ... OK
* checking whether the namespace can be loaded with stated dependencies ... OK
* checking whether the namespace can be unloaded cleanly ... OK
* checking dependencies in R code ... OK
* checking S3 generic/method consistency ... OK
* checking replacement functions ... OK
* checking foreign function calls ... OK
* checking R code for possible problems ... OK
* checking Rd files ... OK
* checking Rd metadata ... OK
* checking Rd cross-references ... OK
* checking for missing documentation entries ... OK
* checking for code/documentation mismatches ... OK
* checking Rd \usage sections ... OK
* checking Rd contents ... OK
* checking for unstated dependencies in examples ... OK
* checking contents of ‘data’ directory ... OK
* checking data for non-ASCII characters ... OK
* checking LazyData ... OK
* checking data for ASCII and uncompressed saves ... OK
* checking files in ‘vignettes’ ... OK
* checking examples ... OK
* checking for unstated dependencies in ‘tests’ ... OK
* checking tests ...
  Running ‘runTests.R’
 OK
* checking for unstated dependencies in vignettes ... OK
* checking package vignettes in ‘inst/doc’ ... OK
* checking running R code from vignettes ... SKIPPED
* checking re-building of vignette outputs ... SKIPPED
* checking PDF version of manual ... OK
* DONE

Status: 2 NOTEs
See
  ‘/Users/biocbuild/bbs-3.13-bioc/meat/transcriptogramer.Rcheck/00check.log’
for details.



Installation output

transcriptogramer.Rcheck/00install.out

##############################################################################
##############################################################################
###
### Running command:
###
###   /Library/Frameworks/R.framework/Versions/Current/Resources/bin/R CMD INSTALL transcriptogramer
###
##############################################################################
##############################################################################


* installing to library ‘/Library/Frameworks/R.framework/Versions/4.1/Resources/library’
* installing *source* package ‘transcriptogramer’ ...
** using staged installation
** R
** data
*** moving datasets to lazyload DB
** inst
** byte-compile and prepare package for lazy loading
** help
*** installing help indices
** building package indices
** installing vignettes
** testing if installed package can be loaded from temporary location
** testing if installed package can be loaded from final location
** testing if installed package keeps a record of temporary installation path
* DONE (transcriptogramer)

Tests output

transcriptogramer.Rcheck/tests/runTests.Rout


R version 4.1.0 (2021-05-18) -- "Camp Pontanezen"
Copyright (C) 2021 The R Foundation for Statistical Computing
Platform: x86_64-apple-darwin17.0 (64-bit)

R is free software and comes with ABSOLUTELY NO WARRANTY.
You are welcome to redistribute it under certain conditions.
Type 'license()' or 'licence()' for distribution details.

R is a collaborative project with many contributors.
Type 'contributors()' for more information and
'citation()' on how to cite R or R packages in publications.

Type 'demo()' for some demos, 'help()' for on-line help, or
'help.start()' for an HTML browser interface to help.
Type 'q()' to quit R.

> BiocGenerics:::testPackage("transcriptogramer")

preprocessing input data... step 1 of 1
calculating node properties... step 1 of 2
** this may take some time...
applying sliding window and mounting resulting data... step 2 of 2
** this may take some time...
done!
mapping identifiers to ENSEMBL Peptide ID... step 1 of 2
averaging over all identifiers related to the same protein... step 2 of 2
done!
applying sliding window and mounting resulting data... step 1 of 1
done!


RUNIT TEST PROTOCOL -- Wed Jun 16 00:48:19 2021 
*********************************************** 
Number of test functions: 3 
Number of errors: 0 
Number of failures: 0 

 
1 Test Suite : 
transcriptogramer RUnit Tests - 3 test functions, 0 errors, 0 failures
Number of test functions: 3 
Number of errors: 0 
Number of failures: 0 
> 
> proc.time()
   user  system elapsed 
 13.357   1.123  99.571 

Example timings

transcriptogramer.Rcheck/transcriptogramer-Ex.timings

nameusersystemelapsed
DE-method1.2420.0491.292
DEsymbols0.1720.1820.354
GPL5700.9370.7901.788
GSE99880.8171.0111.950
Hs7000.1630.3170.480
Hs8000.1010.1240.225
Hs9000.1060.1460.253
HsBPTerms1.0931.0582.198
Mm7000.1730.2380.412
Mm8000.1310.1690.300
Mm9000.1200.1690.308
Rn7000.1530.1800.333
Rn8000.1320.1700.302
Rn9000.0850.1210.235
Sc7000.0390.0550.094
Sc8000.0390.0580.098
Sc9000.0300.0420.072
Terms-method0.0620.0030.065
association1.1060.9262.054
clusterEnrichment-method0.0330.0040.036
clusterVisualization-method0.0600.0060.066
connectivityProperties-method0.0350.0020.037
differentiallyExpressed-method0.0780.0080.087
enrichmentPlot-method0.0400.0030.042
orderingProperties-method0.0700.0050.076
radius-method0.0470.0030.050
transcriptogramPreprocess0.0870.0030.090
transcriptogramStep1-method0.0320.0020.034
transcriptogramStep2-method0.0340.0020.037