Back to Multiple platform build/check report for BioC 3.13
ABCDEFGHIJKLMNOPQRS[T]UVWXYZ

BUILD BIN results for transcriptogramer on machv2

This page was generated on 2021-06-14 14:05:58 -0400 (Mon, 14 Jun 2021).

Package 1946/2041HostnameOS / ArchINSTALLBUILDCHECKBUILD BIN
transcriptogramer 1.14.0  (landing page)
Diego Morais
Snapshot Date: 2021-06-13 06:50:09 -0400 (Sun, 13 Jun 2021)
URL: https://git.bioconductor.org/packages/transcriptogramer
Branch: RELEASE_3_13
Last Commit: 33f0ca5
Last Changed Date: 2021-05-19 12:31:57 -0400 (Wed, 19 May 2021)
nebbiolo1Linux (Ubuntu 20.04.2 LTS) / x86_64  OK    OK    OK  UNNEEDED, same version is already published
tokay2Windows Server 2012 R2 Standard / x64  OK    OK    OK    OK  UNNEEDED, same version is already published
machv2macOS 10.14.6 Mojave / x86_64  OK    OK    OK    OK  UNNEEDED, same version is already published
To the developers/maintainers of the transcriptogramer package:
- Please allow up to 24 hours (and sometimes 48 hours) for your latest push to git@git.bioconductor.org:packages/transcriptogramer.git to
reflect on this report. See How and When does the builder pull? When will my changes propagate? here for more information.
- Make sure to use the following settings in order to reproduce any error or warning you see on this page.

Summary

Package: transcriptogramer
Version: 1.14.0
Command: rm -rf transcriptogramer.buildbin-libdir && mkdir transcriptogramer.buildbin-libdir && /Users/biocbuild/BBS/utils/build-universal.sh transcriptogramer_1.14.0.tar.gz /Library/Frameworks/R.framework/Versions/Current/Resources/bin/R transcriptogramer.buildbin-libdir
StartedAt: 2021-06-14 03:21:09 -0400 (Mon, 14 Jun 2021)
EndedAt: 2021-06-14 03:22:00 -0400 (Mon, 14 Jun 2021)
EllapsedTime: 51.0 seconds
RetCode: 0
Status:   OK  
PackageFile: transcriptogramer_1.14.0.tgz
PackageFileSize: 5.929 MiB

Command output

##############################################################################
##############################################################################
###
### Running command:
###
###   rm -rf transcriptogramer.buildbin-libdir && mkdir transcriptogramer.buildbin-libdir && /Users/biocbuild/BBS/utils/build-universal.sh transcriptogramer_1.14.0.tar.gz /Library/Frameworks/R.framework/Versions/Current/Resources/bin/R transcriptogramer.buildbin-libdir
###
##############################################################################
##############################################################################


>>>>>>> 
>>>>>>> INSTALLATION WITH 'R CMD INSTALL --preclean --no-multiarch --library=transcriptogramer.buildbin-libdir transcriptogramer_1.14.0.tar.gz'
>>>>>>> 

* installing *source* package ‘transcriptogramer’ ...
** using staged installation
** R
** data
*** moving datasets to lazyload DB
** inst
** byte-compile and prepare package for lazy loading
** help
*** installing help indices
** building package indices
** installing vignettes
** testing if installed package can be loaded from temporary location
** testing if installed package can be loaded from final location
** testing if installed package keeps a record of temporary installation path
* DONE (transcriptogramer)