Index of /checkResults/3.13/bioc-LATEST/tigre/raw-results

[ICO]NameLast modifiedSizeDescription

[DIR]Parent Directory  -  
[   ]info.dcf25-Sep-2021 04:07 273  
[DIR]machv2/25-Sep-2021 04:07 -  
[DIR]nebbiolo1/25-Sep-2021 04:05 -  
[DIR]tokay2/25-Sep-2021 04:06 -