Back to Multiple platform build/check report for BioC 3.13
ABCDEFGHIJKLMNOPQRS[T]UVWXYZ

This page was generated on 2021-09-24 15:07:01 -0400 (Fri, 24 Sep 2021).

BUILD BIN results for tigre on machv2

To the developers/maintainers of the tigre package:
- Please allow up to 24 hours (and sometimes 48 hours) for your latest push to git@git.bioconductor.org:packages/tigre.git to
reflect on this report. See How and When does the builder pull? When will my changes propagate? here for more information.
- Make sure to use the following settings in order to reproduce any error or warning you see on this page.

raw results

Package 1915/2041HostnameOS / ArchINSTALLBUILDCHECKBUILD BIN
tigre 1.46.0  (landing page)
Antti Honkela
Snapshot Date: 2021-09-23 04:50:12 -0400 (Thu, 23 Sep 2021)
git_url: https://git.bioconductor.org/packages/tigre
git_branch: RELEASE_3_13
git_last_commit: 95c5a86
git_last_commit_date: 2021-05-19 11:45:13 -0400 (Wed, 19 May 2021)
nebbiolo1Linux (Ubuntu 20.04.2 LTS) / x86_64  OK    OK    OK  UNNEEDED, same version is already published
tokay2Windows Server 2012 R2 Standard / x64  OK    OK    OK    OK  UNNEEDED, same version is already published
machv2macOS 10.14.6 Mojave / x86_64  OK    OK    OK    OK  UNNEEDED, same version is already published

Summary

Package: tigre
Version: 1.46.0
Command: rm -rf tigre.buildbin-libdir && mkdir tigre.buildbin-libdir && /Users/biocbuild/BBS/utils/build-universal.sh tigre_1.46.0.tar.gz /Library/Frameworks/R.framework/Versions/Current/Resources/bin/R tigre.buildbin-libdir
StartedAt: 2021-09-24 03:54:39 -0400 (Fri, 24 Sep 2021)
EndedAt: 2021-09-24 03:55:50 -0400 (Fri, 24 Sep 2021)
EllapsedTime: 71.3 seconds
RetCode: 0
Status:   OK  
PackageFile: tigre_1.46.0.tgz
PackageFileSize: 966.2 KiB

Command output

##############################################################################
##############################################################################
###
### Running command:
###
###   rm -rf tigre.buildbin-libdir && mkdir tigre.buildbin-libdir && /Users/biocbuild/BBS/utils/build-universal.sh tigre_1.46.0.tar.gz /Library/Frameworks/R.framework/Versions/Current/Resources/bin/R tigre.buildbin-libdir
###
##############################################################################
##############################################################################


>>>>>>> 
>>>>>>> INSTALLATION WITH 'R CMD INSTALL --preclean --no-multiarch --library=tigre.buildbin-libdir tigre_1.46.0.tar.gz'
>>>>>>> 

* installing *source* package ‘tigre’ ...
** using staged installation
** libs
clang -mmacosx-version-min=10.13 -I"/Library/Frameworks/R.framework/Resources/include" -DNDEBUG   -I/usr/local/include   -fPIC  -Wall -g -O2  -c miscCFunctions.c -o miscCFunctions.o
clang -mmacosx-version-min=10.13 -dynamiclib -Wl,-headerpad_max_install_names -undefined dynamic_lookup -single_module -multiply_defined suppress -L/Library/Frameworks/R.framework/Resources/lib -L/usr/local/lib -o tigre.so miscCFunctions.o -F/Library/Frameworks/R.framework/.. -framework R -Wl,-framework -Wl,CoreFoundation
installing to /Users/biocbuild/bbs-3.13-bioc/meat/tigre.buildbin-libdir/00LOCK-tigre/00new/tigre/libs
** R
** data
** inst
** byte-compile and prepare package for lazy loading
** help
*** installing help indices
** building package indices
** installing vignettes
** testing if installed package can be loaded from temporary location
** checking absolute paths in shared objects and dynamic libraries
** testing if installed package can be loaded from final location
** testing if installed package keeps a record of temporary installation path
* DONE (tigre)


>>>>>>> 
>>>>>>> FIXING LINKS FOR tigre.buildbin-libdir/tigre/libs/tigre.so
>>>>>>> 

install_name_tool -change "/usr/local/lib/libgcc_s.1.dylib" "/Library/Frameworks/R.framework/Versions/4.1/Resources/lib/libgcc_s.1.dylib" "tigre.buildbin-libdir/tigre/libs/tigre.so"
install_name_tool -change "/usr/local/lib/libgfortran.5.dylib" "/Library/Frameworks/R.framework/Versions/4.1/Resources/lib/libgfortran.5.dylib" "tigre.buildbin-libdir/tigre/libs/tigre.so"
install_name_tool -change "/usr/local/lib/libquadmath.0.dylib" "/Library/Frameworks/R.framework/Versions/4.1/Resources/lib/libquadmath.0.dylib" "tigre.buildbin-libdir/tigre/libs/tigre.so"