Back to Multiple platform build/check report for BioC 3.13
ABCDEFGHIJKLMNOPQRS[T]UVWXYZ

This page was generated on 2021-07-23 15:06:23 -0400 (Fri, 23 Jul 2021).

BUILD results for tenXplore on tokay2

To the developers/maintainers of the tenXplore package:
- Please allow up to 24 hours (and sometimes 48 hours) for your latest push to git@git.bioconductor.org:packages/tenXplore.git to
reflect on this report. See How and When does the builder pull? When will my changes propagate? here for more information.
- Make sure to use the following settings in order to reproduce any error or warning you see on this page.

raw results

Package 1904/2041HostnameOS / ArchINSTALLBUILDCHECKBUILD BIN
tenXplore 1.14.0  (landing page)
VJ Carey
Snapshot Date: 2021-07-22 04:50:13 -0400 (Thu, 22 Jul 2021)
URL: https://git.bioconductor.org/packages/tenXplore
Branch: RELEASE_3_13
Last Commit: 293d839
Last Changed Date: 2021-05-19 12:31:52 -0400 (Wed, 19 May 2021)
nebbiolo1Linux (Ubuntu 20.04.2 LTS) / x86_64  OK    OK    OK  UNNEEDED, same version is already published
tokay2Windows Server 2012 R2 Standard / x64  OK    OK    OK    OK  UNNEEDED, same version is already published
machv2macOS 10.14.6 Mojave / x86_64  OK    OK    OK    OK  UNNEEDED, same version is already published

Summary

Package: tenXplore
Version: 1.14.0
Command: chmod a+r tenXplore -R && C:\Users\biocbuild\bbs-3.13-bioc\R\bin\R.exe CMD build --keep-empty-dirs --no-resave-data tenXplore
StartedAt: 2021-07-22 18:55:44 -0400 (Thu, 22 Jul 2021)
EndedAt: 2021-07-22 18:56:49 -0400 (Thu, 22 Jul 2021)
EllapsedTime: 65.0 seconds
RetCode: 0
Status:   OK  
PackageFile: tenXplore_1.14.0.tar.gz
PackageFileSize: 2.447 MiB

Command output

##############################################################################
##############################################################################
###
### Running command:
###
###   chmod a+r tenXplore -R && C:\Users\biocbuild\bbs-3.13-bioc\R\bin\R.exe CMD build --keep-empty-dirs --no-resave-data tenXplore
###
##############################################################################
##############################################################################


* checking for file 'tenXplore/DESCRIPTION' ... OK
* preparing 'tenXplore':
* checking DESCRIPTION meta-information ... OK
* installing the package to build vignettes
* creating vignettes ... OK
* checking for LF line-endings in source and make files and shell scripts
* checking for empty or unneeded directories
* looking to see if a 'data/datalist' file should be added
* building 'tenXplore_1.14.0.tar.gz'