Back to Multiple platform build/check report for BioC 3.13
ABCDEFGHIJKLMNOPQRS[T]UVWXYZ

INSTALL report for tRanslatome on riesling1

This page was generated on 2021-05-13 12:13:21 -0400 (Thu, 13 May 2021).

To the developers/maintainers of the tRanslatome package:
Please make sure to use the following settings in order to reproduce any error or warning you see on this page.
Package 1932/2022HostnameOS / ArchINSTALLBUILDCHECKBUILD BIN
tRanslatome 1.29.2  (landing page)
Toma Tebaldi , Erik Dassi
Snapshot Date: 2021-05-12 14:50:04 -0400 (Wed, 12 May 2021)
URL: https://git.bioconductor.org/packages/tRanslatome
Branch: master
Last Commit: 4ee27ef
Last Changed Date: 2020-11-25 10:50:17 -0400 (Wed, 25 Nov 2020)
nebbiolo1Linux (Ubuntu 20.04.2 LTS) / x86_64  OK    OK    OK  UNNEEDED, same version exists in internal repository
riesling1Windows Server 2019 Standard / x64  OK    OK    OK    OK  UNNEEDED, same version exists in internal repository
machv2macOS 10.14.6 Mojave / x86_64  OK    OK    OK    NA  

Summary

Package: tRanslatome
Version: 1.29.2
Command: C:\cygwin\bin\curl.exe -O http://155.52.207.165/BBS/3.13/bioc/src/contrib/tRanslatome_1.29.2.tar.gz && rm -rf tRanslatome.buildbin-libdir && mkdir tRanslatome.buildbin-libdir && D:\biocbuild\bbs-3.13-bioc\R\bin\R.exe CMD INSTALL --merge-multiarch --build --library=tRanslatome.buildbin-libdir tRanslatome_1.29.2.tar.gz && D:\biocbuild\bbs-3.13-bioc\R\bin\R.exe CMD INSTALL tRanslatome_1.29.2.zip && rm tRanslatome_1.29.2.tar.gz tRanslatome_1.29.2.zip
StartedAt: 2021-05-12 19:44:09 -0400 (Wed, 12 May 2021)
EndedAt: 2021-05-12 19:46:42 -0400 (Wed, 12 May 2021)
EllapsedTime: 152.4 seconds
RetCode: 0
Status:   OK   

Command output

##############################################################################
##############################################################################
###
### Running command:
###
###   C:\cygwin\bin\curl.exe -O http://155.52.207.165/BBS/3.13/bioc/src/contrib/tRanslatome_1.29.2.tar.gz && rm -rf tRanslatome.buildbin-libdir && mkdir tRanslatome.buildbin-libdir && D:\biocbuild\bbs-3.13-bioc\R\bin\R.exe CMD INSTALL --merge-multiarch --build --library=tRanslatome.buildbin-libdir tRanslatome_1.29.2.tar.gz && D:\biocbuild\bbs-3.13-bioc\R\bin\R.exe CMD INSTALL tRanslatome_1.29.2.zip && rm tRanslatome_1.29.2.tar.gz tRanslatome_1.29.2.zip
###
##############################################################################
##############################################################################


  % Total    % Received % Xferd  Average Speed   Time    Time     Time  Current
                                 Dload  Upload   Total   Spent    Left  Speed

  0     0    0     0    0     0      0      0 --:--:-- --:--:-- --:--:--     0
 26  623k   26  166k    0     0   641k      0 --:--:-- --:--:-- --:--:--  638k
100  623k  100  623k    0     0  1065k      0 --:--:-- --:--:-- --:--:-- 1064k

install for i386

* installing *source* package 'tRanslatome' ...
** using staged installation
** R
** data
** byte-compile and prepare package for lazy loading

groupGOTerms: 	GOBPTerm, GOMFTerm, GOCCTerm environments built.
** help
*** installing help indices
  converting help for package 'tRanslatome'
    finding HTML links ... done
    CVplot                                  html  
    DEGs                                    html  
    DEGs.table                              html  
    EnrichedSets                            html  
    FC.threshold                            html  
    GOComparison                            html  
    GOEnrichment                            html  
    GOsets                                  html  
    GOsims                                  html  
    Heatmap                                 html  
    Histogram                               html  
    IdentityPlot                            html  
    MAplot                                  html  
    Radar                                   html  
    RegulatoryEnrichment                    html  
    SDplot                                  html  
    Scatterplot                             html  
    SimilarityPlot                          html  
    TranslatomeDataset                      html  
    average.similarity.scores               html  
    computeDEGs                             html  
    enriched.table                          html  
    getConditionA                           html  
    getConditionB                           html  
    getConditionC                           html  
    getConditionD                           html  
    getConditionLabels                      html  
    getDEGs                                 html  
    getDEGsMethod                           html  
    getDataType                             html  
    getExprMatrix                           html  
    getLevelLabels                          html  
    identity.matrix                         html  
    label.condition                         html  
    label.level.DEGs                        html  
    label.level.enriched                    html  
    newTranslatomeDataset                   html  
    significance.threshold                  html  
    similarity.matrix                       html  
    tRanslatome-package                     html  
    tRanslatomeSampleData                   html  
** building package indices
** installing vignettes
** testing if installed package can be loaded from temporary location

groupGOTerms: 	GOBPTerm, GOMFTerm, GOCCTerm environments built.
** testing if installed package can be loaded from final location

groupGOTerms: 	GOBPTerm, GOMFTerm, GOCCTerm environments built.
** testing if installed package keeps a record of temporary installation path

install for x64

* installing *source* package 'tRanslatome' ...
** testing if installed package can be loaded

groupGOTerms: 	GOBPTerm, GOMFTerm, GOCCTerm environments built.
* MD5 sums
packaged installation of 'tRanslatome' as tRanslatome_1.29.2.zip
* DONE (tRanslatome)
* installing to library 'D:/biocbuild/bbs-3.13-bioc/R/library'
package 'tRanslatome' successfully unpacked and MD5 sums checked