Back to Multiple platform build/check report for BioC 3.13
ABCDEFGHIJKLMNOPQRS[T]UVWXYZ

BUILD report for tRanslatome on riesling1

This page was generated on 2021-05-13 12:13:21 -0400 (Thu, 13 May 2021).

To the developers/maintainers of the tRanslatome package:
Please make sure to use the following settings in order to reproduce any error or warning you see on this page.
Package 1932/2022HostnameOS / ArchINSTALLBUILDCHECKBUILD BIN
tRanslatome 1.29.2  (landing page)
Toma Tebaldi , Erik Dassi
Snapshot Date: 2021-05-12 14:50:04 -0400 (Wed, 12 May 2021)
URL: https://git.bioconductor.org/packages/tRanslatome
Branch: master
Last Commit: 4ee27ef
Last Changed Date: 2020-11-25 10:50:17 -0400 (Wed, 25 Nov 2020)
nebbiolo1Linux (Ubuntu 20.04.2 LTS) / x86_64  OK    OK    OK  UNNEEDED, same version exists in internal repository
riesling1Windows Server 2019 Standard / x64  OK    OK    OK    OK  UNNEEDED, same version exists in internal repository
machv2macOS 10.14.6 Mojave / x86_64  OK    OK    OK    NA  

Summary

Package: tRanslatome
Version: 1.29.2
Command: chmod a+r tRanslatome -R && D:\biocbuild\bbs-3.13-bioc\R\bin\R.exe CMD build --keep-empty-dirs --no-resave-data tRanslatome
StartedAt: 2021-05-13 01:05:32 -0400 (Thu, 13 May 2021)
EndedAt: 2021-05-13 01:08:58 -0400 (Thu, 13 May 2021)
EllapsedTime: 206.6 seconds
RetCode: 0
Status:   OK   
PackageFile: tRanslatome_1.29.2.tar.gz
PackageFileSize: 822.4 KiB

Command output

##############################################################################
##############################################################################
###
### Running command:
###
###   chmod a+r tRanslatome -R && D:\biocbuild\bbs-3.13-bioc\R\bin\R.exe CMD build --keep-empty-dirs --no-resave-data tRanslatome
###
##############################################################################
##############################################################################


* checking for file 'tRanslatome/DESCRIPTION' ... OK
* preparing 'tRanslatome':
* checking DESCRIPTION meta-information ... OK
* installing the package to build vignettes
* creating vignettes ... OK
* checking for LF line-endings in source and make files and shell scripts
* checking for empty or unneeded directories
* looking to see if a 'data/datalist' file should be added
* building 'tRanslatome_1.29.2.tar.gz'