Back to Multiple platform build/check report for BioC 3.13
ABCDEFGHIJKLMNOPQRS[T]UVWXYZ

INSTALL report for tRanslatome on machv2

This page was generated on 2021-05-10 12:14:55 -0400 (Mon, 10 May 2021).

To the developers/maintainers of the tRanslatome package:
Please make sure to use the following settings in order to reproduce any error or warning you see on this page.
Package 1926/2016HostnameOS / ArchINSTALLBUILDCHECKBUILD BIN
tRanslatome 1.29.2  (landing page)
Toma Tebaldi , Erik Dassi
Snapshot Date: 2021-05-09 14:50:05 -0400 (Sun, 09 May 2021)
URL: https://git.bioconductor.org/packages/tRanslatome
Branch: master
Last Commit: 4ee27ef
Last Changed Date: 2020-11-25 10:50:17 -0400 (Wed, 25 Nov 2020)
nebbiolo1Linux (Ubuntu 20.04.2 LTS) / x86_64  OK    OK    OK  UNNEEDED, same version exists in internal repository
riesling1Windows Server 2019 Standard / x64  OK    OK    OK    OK  UNNEEDED, same version exists in internal repository
machv2macOS 10.14.6 Mojave / x86_64  OK    OK    OK    OK  UNNEEDED, same version exists in internal repository

Summary

Package: tRanslatome
Version: 1.29.2
Command: /Library/Frameworks/R.framework/Versions/Current/Resources/bin/R CMD INSTALL tRanslatome
StartedAt: 2021-05-09 17:12:07 -0400 (Sun, 09 May 2021)
EndedAt: 2021-05-09 17:12:58 -0400 (Sun, 09 May 2021)
EllapsedTime: 51.0 seconds
RetCode: 0
Status:   OK  

Command output

##############################################################################
##############################################################################
###
### Running command:
###
###   /Library/Frameworks/R.framework/Versions/Current/Resources/bin/R CMD INSTALL tRanslatome
###
##############################################################################
##############################################################################


* installing to library ‘/Library/Frameworks/R.framework/Versions/4.1/Resources/library’
* installing *source* package ‘tRanslatome’ ...
** using staged installation
** R
** data
** byte-compile and prepare package for lazy loading

groupGOTerms: 	GOBPTerm, GOMFTerm, GOCCTerm environments built.
** help
*** installing help indices
** building package indices
** installing vignettes
** testing if installed package can be loaded from temporary location

groupGOTerms: 	GOBPTerm, GOMFTerm, GOCCTerm environments built.
** testing if installed package can be loaded from final location

groupGOTerms: 	GOBPTerm, GOMFTerm, GOCCTerm environments built.
** testing if installed package keeps a record of temporary installation path
* DONE (tRanslatome)