Back to Multiple platform build/check report for BioC 3.13
ABCDEFGHIJKLMNOPQR[S]TUVWXYZ

This page was generated on 2021-06-18 14:07:01 -0400 (Fri, 18 Jun 2021).

BUILD results for signatureSearch on machv2

To the developers/maintainers of the signatureSearch package:
- Please allow up to 24 hours (and sometimes 48 hours) for your latest push to git@git.bioconductor.org:packages/signatureSearch.git to
reflect on this report. See How and When does the builder pull? When will my changes propagate? here for more information.
- Make sure to use the following settings in order to reproduce any error or warning you see on this page.

raw results

Package 1761/2041HostnameOS / ArchINSTALLBUILDCHECKBUILD BIN
signatureSearch 1.6.1  (landing page)
Yuzhu Duan
Snapshot Date: 2021-06-17 06:50:12 -0400 (Thu, 17 Jun 2021)
URL: https://git.bioconductor.org/packages/signatureSearch
Branch: RELEASE_3_13
Last Commit: 58af341
Last Changed Date: 2021-05-20 23:45:29 -0400 (Thu, 20 May 2021)
nebbiolo1Linux (Ubuntu 20.04.2 LTS) / x86_64  OK    OK    OK  UNNEEDED, same version is already published
tokay2Windows Server 2012 R2 Standard / x64  OK    OK    ERROR    OK  
machv2macOS 10.14.6 Mojave / x86_64  OK    OK    ERROR    OK  

Summary

Package: signatureSearch
Version: 1.6.1
Command: /Library/Frameworks/R.framework/Versions/Current/Resources/bin/R CMD build --keep-empty-dirs --no-resave-data signatureSearch
StartedAt: 2021-06-17 14:40:37 -0400 (Thu, 17 Jun 2021)
EndedAt: 2021-06-17 14:50:36 -0400 (Thu, 17 Jun 2021)
EllapsedTime: 599.5 seconds
RetCode: 0
Status:   OK  
PackageFile: signatureSearch_1.6.1.tar.gz
PackageFileSize: 3.738 MiB

Command output

##############################################################################
##############################################################################
###
### Running command:
###
###   /Library/Frameworks/R.framework/Versions/Current/Resources/bin/R CMD build --keep-empty-dirs --no-resave-data signatureSearch
###
##############################################################################
##############################################################################


* checking for file ‘signatureSearch/DESCRIPTION’ ... OK
* preparing ‘signatureSearch’:
* checking DESCRIPTION meta-information ... OK
* cleaning src
* installing the package to build vignettes
* creating vignettes ... OK
* cleaning src
* checking for LF line-endings in source and make files and shell scripts
* checking for empty or unneeded directories
* building ‘signatureSearch_1.6.1.tar.gz’