Back to Multiple platform build/check report for BioC 3.13
ABCDEFGHIJKLMNOPQR[S]TUVWXYZ

This page was generated on 2021-09-17 15:06:22 -0400 (Fri, 17 Sep 2021).

INSTALL results for scPCA on tokay2

To the developers/maintainers of the scPCA package:
- Please allow up to 24 hours (and sometimes 48 hours) for your latest push to git@git.bioconductor.org:packages/scPCA.git to
reflect on this report. See How and When does the builder pull? When will my changes propagate? here for more information.
- Make sure to use the following settings in order to reproduce any error or warning you see on this page.

raw results

Package 1711/2041HostnameOS / ArchINSTALLBUILDCHECKBUILD BIN
scPCA 1.6.2  (landing page)
Philippe Boileau
Snapshot Date: 2021-09-16 04:50:11 -0400 (Thu, 16 Sep 2021)
git_url: https://git.bioconductor.org/packages/scPCA
git_branch: RELEASE_3_13
git_last_commit: 2f31700
git_last_commit_date: 2021-05-26 22:50:38 -0400 (Wed, 26 May 2021)
nebbiolo1Linux (Ubuntu 20.04.2 LTS) / x86_64  OK    OK    OK  UNNEEDED, same version is already published
tokay2Windows Server 2012 R2 Standard / x64  OK    OK    OK    OK  UNNEEDED, same version is already published
machv2macOS 10.14.6 Mojave / x86_64  OK    OK    OK    OK  UNNEEDED, same version is already published

Summary

Package: scPCA
Version: 1.6.2
Command: C:\cygwin\bin\curl.exe -O http://155.52.207.165/BBS/3.13/bioc/src/contrib/scPCA_1.6.2.tar.gz && rm -rf scPCA.buildbin-libdir && mkdir scPCA.buildbin-libdir && C:\Users\biocbuild\bbs-3.13-bioc\R\bin\R.exe CMD INSTALL --merge-multiarch --build --library=scPCA.buildbin-libdir scPCA_1.6.2.tar.gz && C:\Users\biocbuild\bbs-3.13-bioc\R\bin\R.exe CMD INSTALL scPCA_1.6.2.zip && rm scPCA_1.6.2.tar.gz scPCA_1.6.2.zip
StartedAt: 2021-09-16 10:51:05 -0400 (Thu, 16 Sep 2021)
EndedAt: 2021-09-16 10:51:52 -0400 (Thu, 16 Sep 2021)
EllapsedTime: 47.8 seconds
RetCode: 0
Status:   OK  

Command output

##############################################################################
##############################################################################
###
### Running command:
###
###   C:\cygwin\bin\curl.exe -O http://155.52.207.165/BBS/3.13/bioc/src/contrib/scPCA_1.6.2.tar.gz && rm -rf scPCA.buildbin-libdir && mkdir scPCA.buildbin-libdir && C:\Users\biocbuild\bbs-3.13-bioc\R\bin\R.exe CMD INSTALL --merge-multiarch --build --library=scPCA.buildbin-libdir scPCA_1.6.2.tar.gz && C:\Users\biocbuild\bbs-3.13-bioc\R\bin\R.exe CMD INSTALL scPCA_1.6.2.zip && rm scPCA_1.6.2.tar.gz scPCA_1.6.2.zip
###
##############################################################################
##############################################################################


  % Total    % Received % Xferd  Average Speed   Time    Time     Time  Current
                                 Dload  Upload   Total   Spent    Left  Speed

  0     0    0     0    0     0      0      0 --:--:-- --:--:-- --:--:--     0
  0 1768k    0 16075    0     0   113k      0  0:00:15 --:--:--  0:00:15  112k
100 1768k  100 1768k    0     0  1701k      0  0:00:01  0:00:01 --:--:-- 1702k

install for i386

* installing *source* package 'scPCA' ...
** using staged installation
** R
** data
*** moving datasets to lazyload DB
** inst
** byte-compile and prepare package for lazy loading
** help
Loading required namespace: scPCA
*** installing help indices
  converting help for package 'scPCA'
    finding HTML links ... done
    background_df                           html  
    bpContrastiveCov                        html  
    bpFitCPCA                               html  
    bpFitGrid                               html  
    checkArgs                               html  
    contrastiveCov                          html  
    covMat                                  html  
    cvSelectParams                          html  
    fitCPCA                                 html  
    fitGrid                                 html  
    safeColScale                            html  
    scPCA                                   html  
    selectParams                            html  
    spcaWrapper                             html  
    toy_df                                  html  
*** copying figures
** building package indices
** installing vignettes
** testing if installed package can be loaded from temporary location
** testing if installed package can be loaded from final location
** testing if installed package keeps a record of temporary installation path

install for x64

* installing *source* package 'scPCA' ...
** testing if installed package can be loaded
* MD5 sums
packaged installation of 'scPCA' as scPCA_1.6.2.zip
* DONE (scPCA)
* installing to library 'C:/Users/biocbuild/bbs-3.13-bioc/R/library'
package 'scPCA' successfully unpacked and MD5 sums checked