Back to Multiple platform build/check report for BioC 3.13
ABCDEFGHIJKLMNOPQR[S]TUVWXYZ

This page was generated on 2021-09-24 15:06:27 -0400 (Fri, 24 Sep 2021).

BUILD BIN results for scPCA on tokay2

To the developers/maintainers of the scPCA package:
- Please allow up to 24 hours (and sometimes 48 hours) for your latest push to git@git.bioconductor.org:packages/scPCA.git to
reflect on this report. See How and When does the builder pull? When will my changes propagate? here for more information.
- Make sure to use the following settings in order to reproduce any error or warning you see on this page.

raw results

Package 1711/2041HostnameOS / ArchINSTALLBUILDCHECKBUILD BIN
scPCA 1.6.2  (landing page)
Philippe Boileau
Snapshot Date: 2021-09-23 04:50:12 -0400 (Thu, 23 Sep 2021)
git_url: https://git.bioconductor.org/packages/scPCA
git_branch: RELEASE_3_13
git_last_commit: 2f31700
git_last_commit_date: 2021-05-26 22:50:38 -0400 (Wed, 26 May 2021)
nebbiolo1Linux (Ubuntu 20.04.2 LTS) / x86_64  OK    OK    OK  UNNEEDED, same version is already published
tokay2Windows Server 2012 R2 Standard / x64  OK    OK    OK    OK  UNNEEDED, same version is already published
machv2macOS 10.14.6 Mojave / x86_64  OK    OK    OK    OK  UNNEEDED, same version is already published

Summary

Package: scPCA
Version: 1.6.2
Command: rm -rf scPCA.buildbin-libdir && mkdir scPCA.buildbin-libdir && C:\Users\biocbuild\bbs-3.13-bioc\R\bin\R.exe CMD INSTALL --merge-multiarch --build --library=scPCA.buildbin-libdir scPCA_1.6.2.tar.gz
StartedAt: 2021-09-24 10:56:49 -0400 (Fri, 24 Sep 2021)
EndedAt: 2021-09-24 10:58:22 -0400 (Fri, 24 Sep 2021)
EllapsedTime: 92.8 seconds
RetCode: 0
Status:   OK  
PackageFile: scPCA_1.6.2.zip
PackageFileSize: 924.9 KiB

Command output

##############################################################################
##############################################################################
###
### Running command:
###
###   rm -rf scPCA.buildbin-libdir && mkdir scPCA.buildbin-libdir && C:\Users\biocbuild\bbs-3.13-bioc\R\bin\R.exe CMD INSTALL --merge-multiarch --build --library=scPCA.buildbin-libdir scPCA_1.6.2.tar.gz
###
##############################################################################
##############################################################################



install for i386

* installing *source* package 'scPCA' ...
** using staged installation
** R
** data
*** moving datasets to lazyload DB
** inst
** byte-compile and prepare package for lazy loading
** help
*** installing help indices
  converting help for package 'scPCA'
    finding HTML links ... done
    background_df                           html  
    bpContrastiveCov                        html  
    bpFitCPCA                               html  
    bpFitGrid                               html  
    checkArgs                               html  
    contrastiveCov                          html  
    covMat                                  html  
    cvSelectParams                          html  
    fitCPCA                                 html  
    fitGrid                                 html  
    safeColScale                            html  
    scPCA                                   html  
    selectParams                            html  
    spcaWrapper                             html  
    toy_df                                  html  
*** copying figures
** building package indices
** installing vignettes
** testing if installed package can be loaded from temporary location
** testing if installed package can be loaded from final location
** testing if installed package keeps a record of temporary installation path

install for x64

* installing *source* package 'scPCA' ...
** testing if installed package can be loaded
* MD5 sums
packaged installation of 'scPCA' as scPCA_1.6.2.zip
* DONE (scPCA)