Back to Multiple platform build/check report for BioC 3.13
ABCDEFGHIJKLMNOPQR[S]TUVWXYZ

This page was generated on 2021-09-17 15:05:52 -0400 (Fri, 17 Sep 2021).

BUILD results for scPCA on nebbiolo1

To the developers/maintainers of the scPCA package:
- Please allow up to 24 hours (and sometimes 48 hours) for your latest push to git@git.bioconductor.org:packages/scPCA.git to
reflect on this report. See How and When does the builder pull? When will my changes propagate? here for more information.
- Make sure to use the following settings in order to reproduce any error or warning you see on this page.

raw results

Package 1711/2041HostnameOS / ArchINSTALLBUILDCHECKBUILD BIN
scPCA 1.6.2  (landing page)
Philippe Boileau
Snapshot Date: 2021-09-16 04:50:11 -0400 (Thu, 16 Sep 2021)
git_url: https://git.bioconductor.org/packages/scPCA
git_branch: RELEASE_3_13
git_last_commit: 2f31700
git_last_commit_date: 2021-05-26 22:50:38 -0400 (Wed, 26 May 2021)
nebbiolo1Linux (Ubuntu 20.04.2 LTS) / x86_64  OK    OK    OK  UNNEEDED, same version is already published
tokay2Windows Server 2012 R2 Standard / x64  OK    OK    OK    OK  UNNEEDED, same version is already published
machv2macOS 10.14.6 Mojave / x86_64  OK    OK    OK    OK  UNNEEDED, same version is already published

Summary

Package: scPCA
Version: 1.6.2
Command: /home/biocbuild/bbs-3.13-bioc/R/bin/R CMD build --keep-empty-dirs --no-resave-data scPCA
StartedAt: 2021-09-16 08:20:32 -0400 (Thu, 16 Sep 2021)
EndedAt: 2021-09-16 08:25:34 -0400 (Thu, 16 Sep 2021)
EllapsedTime: 302.3 seconds
RetCode: 0
Status:   OK  
PackageFile: scPCA_1.6.2.tar.gz
PackageFileSize: 1.766 MiB

Command output

##############################################################################
##############################################################################
###
### Running command:
###
###   /home/biocbuild/bbs-3.13-bioc/R/bin/R CMD build --keep-empty-dirs --no-resave-data scPCA
###
##############################################################################
##############################################################################


* checking for file ‘scPCA/DESCRIPTION’ ... OK
* preparing ‘scPCA’:
* checking DESCRIPTION meta-information ... OK
* installing the package to process help pages
Loading required namespace: scPCA
* saving partial Rd database
* creating vignettes ... OK
* checking for LF line-endings in source and make files and shell scripts
* checking for empty or unneeded directories
* building ‘scPCA_1.6.2.tar.gz’