Back to Multiple platform build/check report for BioC 3.13
ABCDEFGHIJKLMNOPQ[R]STUVWXYZ

BUILD results for rsbml on nebbiolo1

This page was generated on 2021-06-14 14:05:01 -0400 (Mon, 14 Jun 2021).

Package 1635/2041HostnameOS / ArchINSTALLBUILDCHECKBUILD BIN
rsbml 2.50.0  (landing page)
Michael Lawrence
Snapshot Date: 2021-06-13 06:50:09 -0400 (Sun, 13 Jun 2021)
URL: https://git.bioconductor.org/packages/rsbml
Branch: RELEASE_3_13
Last Commit: 84b2f61
Last Changed Date: 2021-05-19 11:39:45 -0400 (Wed, 19 May 2021)
nebbiolo1Linux (Ubuntu 20.04.2 LTS) / x86_64  OK    OK    WARNINGS  UNNEEDED, same version is already published
tokay2Windows Server 2012 R2 Standard / x64  OK    OK    WARNINGS    OK  UNNEEDED, same version is already published
machv2macOS 10.14.6 Mojave / x86_64... NOT SUPPORTED ...
To the developers/maintainers of the rsbml package:
- Please allow up to 24 hours (and sometimes 48 hours) for your latest push to git@git.bioconductor.org:packages/rsbml.git to
reflect on this report. See How and When does the builder pull? When will my changes propagate? here for more information.
- Make sure to use the following settings in order to reproduce any error or warning you see on this page.

Summary

Package: rsbml
Version: 2.50.0
Command: /home/biocbuild/bbs-3.13-bioc/R/bin/R CMD build --keep-empty-dirs --no-resave-data rsbml
StartedAt: 2021-06-13 10:19:13 -0400 (Sun, 13 Jun 2021)
EndedAt: 2021-06-13 10:19:31 -0400 (Sun, 13 Jun 2021)
EllapsedTime: 18.6 seconds
RetCode: 0
Status:   OK  
PackageFile: rsbml_2.50.0.tar.gz
PackageFileSize: 600.5 KiB

Command output

##############################################################################
##############################################################################
###
### Running command:
###
###   /home/biocbuild/bbs-3.13-bioc/R/bin/R CMD build --keep-empty-dirs --no-resave-data rsbml
###
##############################################################################
##############################################################################


* checking for file ‘rsbml/DESCRIPTION’ ... OK
* preparing ‘rsbml’:
* checking DESCRIPTION meta-information ... OK
* cleaning src
* installing the package to build vignettes
* creating vignettes ... OK
* cleaning src
* checking for LF line-endings in source and make files and shell scripts
* checking for empty or unneeded directories
* building ‘rsbml_2.50.0.tar.gz’