Back to Multiple platform build/check report for BioC 3.13
ABCDEFGHIJKLMNOP[Q]RSTUVWXYZ

INSTALL results for qpgraph on nebbiolo1

This page was generated on 2021-06-14 14:04:58 -0400 (Mon, 14 Jun 2021).

Package 1473/2041HostnameOS / ArchINSTALLBUILDCHECKBUILD BIN
qpgraph 2.26.0  (landing page)
Robert Castelo
Snapshot Date: 2021-06-13 06:50:09 -0400 (Sun, 13 Jun 2021)
URL: https://git.bioconductor.org/packages/qpgraph
Branch: RELEASE_3_13
Last Commit: 80062b5
Last Changed Date: 2021-05-19 11:42:31 -0400 (Wed, 19 May 2021)
nebbiolo1Linux (Ubuntu 20.04.2 LTS) / x86_64  OK    OK    WARNINGS  UNNEEDED, same version is already published
tokay2Windows Server 2012 R2 Standard / x64  OK    OK    WARNINGS    OK  UNNEEDED, same version is already published
machv2macOS 10.14.6 Mojave / x86_64  OK    OK    WARNINGS    OK  UNNEEDED, same version is already published
To the developers/maintainers of the qpgraph package:
- Please allow up to 24 hours (and sometimes 48 hours) for your latest push to git@git.bioconductor.org:packages/qpgraph.git to
reflect on this report. See How and When does the builder pull? When will my changes propagate? here for more information.
- Make sure to use the following settings in order to reproduce any error or warning you see on this page.

Summary

Package: qpgraph
Version: 2.26.0
Command: /home/biocbuild/bbs-3.13-bioc/R/bin/R CMD INSTALL qpgraph
StartedAt: 2021-06-13 08:27:31 -0400 (Sun, 13 Jun 2021)
EndedAt: 2021-06-13 08:28:20 -0400 (Sun, 13 Jun 2021)
EllapsedTime: 49.8 seconds
RetCode: 0
Status:   OK  

Command output

##############################################################################
##############################################################################
###
### Running command:
###
###   /home/biocbuild/bbs-3.13-bioc/R/bin/R CMD INSTALL qpgraph
###
##############################################################################
##############################################################################


* installing to library ‘/home/biocbuild/bbs-3.13-bioc/R/library’
* installing *source* package ‘qpgraph’ ...
** using staged installation
checking for gcc... gcc
checking for C compiler default output file name... a.out
checking whether the C compiler works... yes
checking whether we are cross compiling... no
checking for suffix of executables... 
checking for suffix of object files... o
checking whether we are using the GNU C compiler... yes
checking whether gcc accepts -g... yes
checking for gcc option to accept ANSI C... none needed
checking build system type... x86_64-pc-linux-gnu
checking host system type... x86_64-pc-linux-gnu
configure: creating ./config.status
config.status: creating src/Makevars
** libs
gcc -I"/home/biocbuild/bbs-3.13-bioc/R/include" -DNDEBUG -I/usr/local/include  -I/usr/local/include  -g -O2 -Wall -Wall -pedantic -Werror=implicit-function-declaration -fpic  -g -O2  -Wall -c cliquer.c -o cliquer.o
gcc -I"/home/biocbuild/bbs-3.13-bioc/R/include" -DNDEBUG -I/usr/local/include  -I/usr/local/include  -g -O2 -Wall -Wall -pedantic -Werror=implicit-function-declaration -fpic  -g -O2  -Wall -c graph.c -o graph.o
gcc -I"/home/biocbuild/bbs-3.13-bioc/R/include" -DNDEBUG -I/usr/local/include  -I/usr/local/include  -g -O2 -Wall -Wall -pedantic -Werror=implicit-function-declaration -fpic  -g -O2  -Wall -c qpgraph.c -o qpgraph.o
gcc -I"/home/biocbuild/bbs-3.13-bioc/R/include" -DNDEBUG -I/usr/local/include  -I/usr/local/include  -g -O2 -Wall -Wall -pedantic -Werror=implicit-function-declaration -fpic  -g -O2  -Wall -c reorder.c -o reorder.o
gcc -shared -L/home/biocbuild/bbs-3.13-bioc/R/lib -L/usr/local/lib -o qpgraph.so cliquer.o graph.o qpgraph.o reorder.o -L/home/biocbuild/bbs-3.13-bioc/R/lib -lRlapack -L/home/biocbuild/bbs-3.13-bioc/R/lib -lRblas -lgfortran -lm -lquadmath -L/home/biocbuild/bbs-3.13-bioc/R/lib -lR
installing to /home/biocbuild/bbs-3.13-bioc/R/library/00LOCK-qpgraph/00new/qpgraph/libs
** R
** data
*** moving datasets to lazyload DB
** inst
** byte-compile and prepare package for lazy loading
No methods found in package ‘GenomicRanges’ for request: ‘c’ when loading ‘qpgraph’
Creating a generic function for ‘det’ from package ‘Matrix’ in package ‘qpgraph’
** help
*** installing help indices
** building package indices
** installing vignettes
   ‘eQTLnetworks.Rnw’ 
   ‘qpTxRegNet.Rnw’ 
   ‘qpgraphSimulate.Rnw’ 
** testing if installed package can be loaded from temporary location
No methods found in package ‘GenomicRanges’ for request: ‘c’ when loading ‘qpgraph’
** checking absolute paths in shared objects and dynamic libraries
** testing if installed package can be loaded from final location
No methods found in package ‘GenomicRanges’ for request: ‘c’ when loading ‘qpgraph’
** testing if installed package keeps a record of temporary installation path
* DONE (qpgraph)