Back to Multiple platform build/check report for BioC 3.13
ABCDEFGHIJKLMNO[P]QRSTUVWXYZ

This page was generated on 2021-08-02 15:05:24 -0400 (Mon, 02 Aug 2021).

CHECK results for psygenet2r on tokay2

To the developers/maintainers of the psygenet2r package:
- Please allow up to 24 hours (and sometimes 48 hours) for your latest push to git@git.bioconductor.org:packages/psygenet2r.git to
reflect on this report. See How and When does the builder pull? When will my changes propagate? here for more information.
- Make sure to use the following settings in order to reproduce any error or warning you see on this page.

raw results

Package 1456/2041HostnameOS / ArchINSTALLBUILDCHECKBUILD BIN
psygenet2r 1.24.0  (landing page)
Alba Gutierrez-Sacristan
Snapshot Date: 2021-08-01 04:50:10 -0400 (Sun, 01 Aug 2021)
URL: https://git.bioconductor.org/packages/psygenet2r
Branch: RELEASE_3_13
Last Commit: 7a013f8
Last Changed Date: 2021-05-19 12:18:38 -0400 (Wed, 19 May 2021)
nebbiolo1Linux (Ubuntu 20.04.2 LTS) / x86_64  OK    OK    OK  UNNEEDED, same version is already published
tokay2Windows Server 2012 R2 Standard / x64  OK    OK    OK    OK  UNNEEDED, same version is already published
machv2macOS 10.14.6 Mojave / x86_64  OK    OK    OK    OK  UNNEEDED, same version is already published

Summary

Package: psygenet2r
Version: 1.24.0
Command: C:\Users\biocbuild\bbs-3.13-bioc\R\bin\R.exe CMD check --force-multiarch --install=check:psygenet2r.install-out.txt --library=C:\Users\biocbuild\bbs-3.13-bioc\R\library --no-vignettes --timings psygenet2r_1.24.0.tar.gz
StartedAt: 2021-08-02 04:06:42 -0400 (Mon, 02 Aug 2021)
EndedAt: 2021-08-02 04:14:05 -0400 (Mon, 02 Aug 2021)
EllapsedTime: 443.3 seconds
RetCode: 0
Status:   OK  
CheckDir: psygenet2r.Rcheck
Warnings: 0

Command output

##############################################################################
##############################################################################
###
### Running command:
###
###   C:\Users\biocbuild\bbs-3.13-bioc\R\bin\R.exe CMD check --force-multiarch --install=check:psygenet2r.install-out.txt --library=C:\Users\biocbuild\bbs-3.13-bioc\R\library --no-vignettes --timings psygenet2r_1.24.0.tar.gz
###
##############################################################################
##############################################################################


* using log directory 'C:/Users/biocbuild/bbs-3.13-bioc/meat/psygenet2r.Rcheck'
* using R version 4.1.0 (2021-05-18)
* using platform: x86_64-w64-mingw32 (64-bit)
* using session charset: ISO8859-1
* using option '--no-vignettes'
* checking for file 'psygenet2r/DESCRIPTION' ... OK
* this is package 'psygenet2r' version '1.24.0'
* checking package namespace information ... OK
* checking package dependencies ... OK
* checking if this is a source package ... OK
* checking if there is a namespace ... OK
* checking for hidden files and directories ... OK
* checking for portable file names ... OK
* checking whether package 'psygenet2r' can be installed ... OK
* checking installed package size ... OK
* checking package directory ... OK
* checking 'build' directory ... OK
* checking DESCRIPTION meta-information ... OK
* checking top-level files ... OK
* checking for left-over files ... OK
* checking index information ... OK
* checking package subdirectories ... OK
* checking R files for non-ASCII characters ... OK
* checking R files for syntax errors ... OK
* loading checks for arch 'i386'
** checking whether the package can be loaded ... OK
** checking whether the package can be loaded with stated dependencies ... OK
** checking whether the package can be unloaded cleanly ... OK
** checking whether the namespace can be loaded with stated dependencies ... OK
** checking whether the namespace can be unloaded cleanly ... OK
* loading checks for arch 'x64'
** checking whether the package can be loaded ... OK
** checking whether the package can be loaded with stated dependencies ... OK
** checking whether the package can be unloaded cleanly ... OK
** checking whether the namespace can be loaded with stated dependencies ... OK
** checking whether the namespace can be unloaded cleanly ... OK
* checking dependencies in R code ... NOTE
Namespace in Imports field not imported from: 'GO.db'
  All declared Imports should be used.
package 'methods' is used but not declared
* checking S3 generic/method consistency ... OK
* checking replacement functions ... OK
* checking foreign function calls ... OK
* checking R code for possible problems ... NOTE
.category_plot: no visible binding for global variable 'category'
.category_plot: no visible binding for global variable 'value'
.category_plot: no visible binding for global variable 'variable'
.gene_plot: no visible binding for global variable 'gene'
.gene_plot: no visible binding for global variable 'value'
.gene_plot: no visible binding for global variable 'variable'
.index_plot: no visible binding for global variable 'Category'
.index_plot: no visible binding for global variable 'value'
.index_plot: no visible binding for global variable 'variable'
.pie_plot: no visible global function definition for 'pie'
ListPsyGeNETIds: no visible global function definition for 'read.csv'
disGenetCurated: no visible global function definition for 'read.csv'
enrichedPD : <anonymous>: no visible global function definition for
  'phyper'
getUMLs: no visible global function definition for 'read.csv'
jaccardEstimation: no visible binding for global variable 'universe'
multipleInput: no visible global function definition for 'new'
pantherGraphic: no visible binding for global variable 'Var1'
pantherGraphic: no visible binding for global variable 'perc'
pantherGraphic: no visible binding for global variable 'diseases'
plot_pmids_barplot: no visible binding for global variable
  'c2.DiseaseName'
plot_pmids_barplot: no visible binding for global variable
  'c0.Number_of_Abstracts'
plot_pmids_barplot: no visible binding for global variable
  'c1.Gene_Symbol'
plot_psy_heatmap: no visible binding for global variable
  'c2.PsychiatricDisorder'
plot_psy_heatmap: no visible binding for global variable
  'c1.Gene_Symbol'
plot_psy_heatmap: no visible binding for global variable 'value'
plot_psy_heatmapDisease: no visible binding for global variable
  'c2.DiseaseName'
plot_psy_heatmapDisease: no visible binding for global variable
  'c1.Gene_Symbol'
plot_psy_heatmapDisease: no visible binding for global variable
  'c0.Score'
plot_psy_heatmapGenes: no visible binding for global variable
  'c1.Gene_Symbol'
plot_psy_heatmapGenes: no visible binding for global variable
  'c2.DiseaseName'
plot_psy_heatmapGenes: no visible binding for global variable
  'c0.Score'
psyGenDisId: no visible global function definition for 'read.csv'
psyPanther: no visible global function definition for 'read.csv'
psygenetAll: no visible global function definition for 'read.csv'
psygenetDisease: no visible global function definition for 'read.csv'
psygenetDisease: no visible global function definition for 'new'
psygenetDiseaseSentences: no visible global function definition for
  'read.csv'
psygenetDiseaseSentences: no visible global function definition for
  'new'
psygenetGene: no visible global function definition for 'read.csv'
psygenetGene: no visible global function definition for 'new'
psygenetGeneSentences: no visible global function definition for
  'read.csv'
psygenetGeneSentences: no visible global function definition for 'new'
singleInput: no visible global function definition for 'combn'
singleInput: no visible global function definition for 'new'
singleInput.genes: no visible global function definition for 'new'
topAnatEnrichment: no visible binding for global variable 'database'
topAnatEnrichment: no visible global function definition for
  'read.delim'
plot,JaccardIndexPsy-ANY: no visible binding for global variable
  'Disease1'
plot,JaccardIndexPsy-ANY: no visible binding for global variable
  'Disease2'
plot,JaccardIndexPsy-ANY: no visible binding for global variable
  'JaccardIndex'
plot,JaccardIndexPsy-ANY: no visible binding for global variable
  'value'
plot,JaccardIndexPsy-ANY: no visible binding for global variable
  'variable'
Undefined global functions or variables:
  Category Disease1 Disease2 JaccardIndex Var1 c0.Number_of_Abstracts
  c0.Score c1.Gene_Symbol c2.DiseaseName c2.PsychiatricDisorder
  category combn database diseases gene new perc phyper pie read.csv
  read.delim universe value variable
Consider adding
  importFrom("graphics", "pie")
  importFrom("methods", "new")
  importFrom("stats", "phyper")
  importFrom("utils", "combn", "read.csv", "read.delim")
to your NAMESPACE file (and ensure that your DESCRIPTION Imports field
contains 'methods').
* checking Rd files ... OK
* checking Rd metadata ... OK
* checking Rd cross-references ... OK
* checking for missing documentation entries ... OK
* checking for code/documentation mismatches ... OK
* checking Rd \usage sections ... OK
* checking Rd contents ... OK
* checking for unstated dependencies in examples ... OK
* checking contents of 'data' directory ... OK
* checking data for non-ASCII characters ... OK
* checking LazyData ... OK
* checking data for ASCII and uncompressed saves ... OK
* checking files in 'vignettes' ... OK
* checking examples ...
** running examples for arch 'i386' ... OK
Examples with CPU (user + system) or elapsed time > 5s
                       user system elapsed
pantherGraphic-methods 0.74   0.03    7.50
psygenetGeneSentences  0.37   0.03   28.11
enrichedPD-methods     0.11   0.00    6.99
** running examples for arch 'x64' ... OK
Examples with CPU (user + system) or elapsed time > 5s
                       user system elapsed
pantherGraphic-methods 0.80   0.00    7.22
psygenetGeneSentences  0.34   0.03   27.71
enrichedPD-methods     0.11   0.00    6.94
* checking for unstated dependencies in 'tests' ... OK
* checking tests ...
** running tests for arch 'i386' ...
  Running 'testthat.R'
 OK
** running tests for arch 'x64' ...
  Running 'testthat.R'
 OK
* checking for unstated dependencies in vignettes ... OK
* checking package vignettes in 'inst/doc' ... OK
* checking running R code from vignettes ... SKIPPED
* checking re-building of vignette outputs ... SKIPPED
* checking PDF version of manual ... OK
* DONE

Status: 2 NOTEs
See
  'C:/Users/biocbuild/bbs-3.13-bioc/meat/psygenet2r.Rcheck/00check.log'
for details.



Installation output

psygenet2r.Rcheck/00install.out

##############################################################################
##############################################################################
###
### Running command:
###
###   C:\cygwin\bin\curl.exe -O http://155.52.207.165/BBS/3.13/bioc/src/contrib/psygenet2r_1.24.0.tar.gz && rm -rf psygenet2r.buildbin-libdir && mkdir psygenet2r.buildbin-libdir && C:\Users\biocbuild\bbs-3.13-bioc\R\bin\R.exe CMD INSTALL --merge-multiarch --build --library=psygenet2r.buildbin-libdir psygenet2r_1.24.0.tar.gz && C:\Users\biocbuild\bbs-3.13-bioc\R\bin\R.exe CMD INSTALL psygenet2r_1.24.0.zip && rm psygenet2r_1.24.0.tar.gz psygenet2r_1.24.0.zip
###
##############################################################################
##############################################################################


  % Total    % Received % Xferd  Average Speed   Time    Time     Time  Current
                                 Dload  Upload   Total   Spent    Left  Speed

  0     0    0     0    0     0      0      0 --:--:-- --:--:-- --:--:--     0
  1 1156k    1 16225    0     0   206k      0  0:00:05 --:--:--  0:00:05  205k
100 1156k  100 1156k    0     0  4302k      0 --:--:-- --:--:-- --:--:-- 4299k

install for i386

* installing *source* package 'psygenet2r' ...
** using staged installation
** R
** data
*** moving datasets to lazyload DB
** inst
** byte-compile and prepare package for lazy loading
** help
*** installing help indices
  converting help for package 'psygenet2r'
    finding HTML links ... done
    DataGeNET.Psy-class                     html  
    JaccardIndexPsy-class                   html  
    enrichedPD-methods                      html  
    extract                                 html  
    extractSentences                        html  
    geneAttrPlot-methods                    html  
    getUMLs-methods                         html  
    jaccardEstimation-methods               html  
    ndisease                                html  
    ngene                                   html  
    pantherGraphic-methods                  html  
    plot-DataGeNET.Psy-ANY-method           html  
    plot-JaccardIndexPsy-ANY-method         html  
    psygenet2r                              html  
    psygenetDisease-methods                 html  
    psygenetDiseaseSentences                html  
    psygenetGene-methods                    html  
    psygenetGeneSentences                   html  
    qr                                      html  
    topAnatEnrichment-methods               html  
    universe                                html  
** building package indices
** installing vignettes
** testing if installed package can be loaded from temporary location
** testing if installed package can be loaded from final location
** testing if installed package keeps a record of temporary installation path

install for x64

* installing *source* package 'psygenet2r' ...
** testing if installed package can be loaded
* MD5 sums
packaged installation of 'psygenet2r' as psygenet2r_1.24.0.zip
* DONE (psygenet2r)
* installing to library 'C:/Users/biocbuild/bbs-3.13-bioc/R/library'
package 'psygenet2r' successfully unpacked and MD5 sums checked

Tests output

psygenet2r.Rcheck/tests_i386/testthat.Rout


R version 4.1.0 (2021-05-18) -- "Camp Pontanezen"
Copyright (C) 2021 The R Foundation for Statistical Computing
Platform: i386-w64-mingw32/i386 (32-bit)

R is free software and comes with ABSOLUTELY NO WARRANTY.
You are welcome to redistribute it under certain conditions.
Type 'license()' or 'licence()' for distribution details.

R is a collaborative project with many contributors.
Type 'contributors()' for more information and
'citation()' on how to cite R or R packages in publications.

Type 'demo()' for some demos, 'help()' for on-line help, or
'help.start()' for an HTML browser interface to help.
Type 'q()' to quit R.

> library(testthat)
> library(psygenet2r)
> 
> test_check("psygenet2r")
== Skipped tests ===============================================================
* empty test (4)

[ FAIL 0 | WARN 0 | SKIP 4 | PASS 18 ]
> 
> proc.time()
   user  system elapsed 
   6.67    0.59   72.92 

psygenet2r.Rcheck/tests_x64/testthat.Rout


R version 4.1.0 (2021-05-18) -- "Camp Pontanezen"
Copyright (C) 2021 The R Foundation for Statistical Computing
Platform: x86_64-w64-mingw32/x64 (64-bit)

R is free software and comes with ABSOLUTELY NO WARRANTY.
You are welcome to redistribute it under certain conditions.
Type 'license()' or 'licence()' for distribution details.

R is a collaborative project with many contributors.
Type 'contributors()' for more information and
'citation()' on how to cite R or R packages in publications.

Type 'demo()' for some demos, 'help()' for on-line help, or
'help.start()' for an HTML browser interface to help.
Type 'q()' to quit R.

> library(testthat)
> library(psygenet2r)
> 
> test_check("psygenet2r")
== Skipped tests ===============================================================
* empty test (4)

[ FAIL 0 | WARN 0 | SKIP 4 | PASS 18 ]
> 
> proc.time()
   user  system elapsed 
   7.59    0.32   75.07 

Example timings

psygenet2r.Rcheck/examples_i386/psygenet2r-Ex.timings

nameusersystemelapsed
JaccardIndexPsy-class0.270.014.26
enrichedPD-methods0.110.006.99
extract0.000.020.02
extractSentences000
getUMLs-methods0.060.003.29
jaccardEstimation-methods0.120.013.89
ndisease000
ngene000
pantherGraphic-methods0.740.037.50
plot-DataGeNET.Psy-ANY-method0.140.040.18
plot-JaccardIndexPsy-ANY-method000
psygenetDisease-methods0.050.004.70
psygenetDiseaseSentences0.050.003.19
psygenetGene-methods0.060.003.92
psygenetGeneSentences 0.37 0.0328.11
qr000
topAnatEnrichment-methods000
universe000

psygenet2r.Rcheck/examples_x64/psygenet2r-Ex.timings

nameusersystemelapsed
JaccardIndexPsy-class0.150.003.65
enrichedPD-methods0.110.006.94
extract0.000.020.02
extractSentences0.000.010.02
getUMLs-methods0.030.003.46
jaccardEstimation-methods0.170.003.36
ndisease0.000.020.02
ngene000
pantherGraphic-methods0.800.007.22
plot-DataGeNET.Psy-ANY-method0.170.000.17
plot-JaccardIndexPsy-ANY-method000
psygenetDisease-methods0.080.004.57
psygenetDiseaseSentences0.030.003.16
psygenetGene-methods0.050.013.75
psygenetGeneSentences 0.34 0.0327.71
qr000
topAnatEnrichment-methods000
universe000