Back to Multiple platform build/check report for BioC 3.13
ABCDEFGHIJKLMNO[P]QRSTUVWXYZ

BUILD results for ppiStats on machv2

This page was generated on 2021-06-14 14:05:50 -0400 (Mon, 14 Jun 2021).

Package 1421/2041HostnameOS / ArchINSTALLBUILDCHECKBUILD BIN
ppiStats 1.58.0  (landing page)
Bioconductor Package Maintainer
Snapshot Date: 2021-06-13 06:50:09 -0400 (Sun, 13 Jun 2021)
URL: https://git.bioconductor.org/packages/ppiStats
Branch: RELEASE_3_13
Last Commit: 0d9ffa4
Last Changed Date: 2021-05-19 11:38:18 -0400 (Wed, 19 May 2021)
nebbiolo1Linux (Ubuntu 20.04.2 LTS) / x86_64  OK    OK    OK  UNNEEDED, same version is already published
tokay2Windows Server 2012 R2 Standard / x64  OK    OK    OK    OK  UNNEEDED, same version is already published
machv2macOS 10.14.6 Mojave / x86_64  OK    OK    OK    OK  UNNEEDED, same version is already published
To the developers/maintainers of the ppiStats package:
- Please allow up to 24 hours (and sometimes 48 hours) for your latest push to git@git.bioconductor.org:packages/ppiStats.git to
reflect on this report. See How and When does the builder pull? When will my changes propagate? here for more information.
- Make sure to use the following settings in order to reproduce any error or warning you see on this page.

Summary

Package: ppiStats
Version: 1.58.0
Command: /Library/Frameworks/R.framework/Versions/Current/Resources/bin/R CMD build --keep-empty-dirs --no-resave-data ppiStats
StartedAt: 2021-06-13 13:40:19 -0400 (Sun, 13 Jun 2021)
EndedAt: 2021-06-13 13:41:18 -0400 (Sun, 13 Jun 2021)
EllapsedTime: 59.0 seconds
RetCode: 0
Status:   OK  
PackageFile: ppiStats_1.58.0.tar.gz
PackageFileSize: 1.283 MiB

Command output

##############################################################################
##############################################################################
###
### Running command:
###
###   /Library/Frameworks/R.framework/Versions/Current/Resources/bin/R CMD build --keep-empty-dirs --no-resave-data ppiStats
###
##############################################################################
##############################################################################


* checking for file ‘ppiStats/DESCRIPTION’ ... OK
* preparing ‘ppiStats’:
* checking DESCRIPTION meta-information ... OK
* installing the package to build vignettes
* creating vignettes ... OK
* checking for LF line-endings in source and make files and shell scripts
* checking for empty or unneeded directories
* building ‘ppiStats_1.58.0.tar.gz’