Back to Multiple platform build/check report for BioC 3.13
ABCDEFGHIJKLMNO[P]QRSTUVWXYZ

This page was generated on 2021-07-23 15:06:45 -0400 (Fri, 23 Jul 2021).

BUILD BIN results for pogos on machv2

To the developers/maintainers of the pogos package:
- Please allow up to 24 hours (and sometimes 48 hours) for your latest push to git@git.bioconductor.org:packages/pogos.git to
reflect on this report. See How and When does the builder pull? When will my changes propagate? here for more information.
- Make sure to use the following settings in order to reproduce any error or warning you see on this page.

raw results

Package 1411/2041HostnameOS / ArchINSTALLBUILDCHECKBUILD BIN
pogos 1.12.0  (landing page)
VJ Carey
Snapshot Date: 2021-07-22 04:50:13 -0400 (Thu, 22 Jul 2021)
URL: https://git.bioconductor.org/packages/pogos
Branch: RELEASE_3_13
Last Commit: 9ddc3d7
Last Changed Date: 2021-05-19 12:32:46 -0400 (Wed, 19 May 2021)
nebbiolo1Linux (Ubuntu 20.04.2 LTS) / x86_64  OK    OK    WARNINGS  UNNEEDED, same version is already published
tokay2Windows Server 2012 R2 Standard / x64  OK    OK    WARNINGS    OK  UNNEEDED, same version is already published
machv2macOS 10.14.6 Mojave / x86_64  OK    OK    WARNINGS    OK  UNNEEDED, same version is already published

Summary

Package: pogos
Version: 1.12.0
Command: rm -rf pogos.buildbin-libdir && mkdir pogos.buildbin-libdir && /Users/biocbuild/BBS/utils/build-universal.sh pogos_1.12.0.tar.gz /Library/Frameworks/R.framework/Versions/Current/Resources/bin/R pogos.buildbin-libdir
StartedAt: 2021-07-23 02:49:16 -0400 (Fri, 23 Jul 2021)
EndedAt: 2021-07-23 02:50:07 -0400 (Fri, 23 Jul 2021)
EllapsedTime: 50.9 seconds
RetCode: 0
Status:   OK  
PackageFile: pogos_1.12.0.tgz
PackageFileSize: 1.461 MiB

Command output

##############################################################################
##############################################################################
###
### Running command:
###
###   rm -rf pogos.buildbin-libdir && mkdir pogos.buildbin-libdir && /Users/biocbuild/BBS/utils/build-universal.sh pogos_1.12.0.tar.gz /Library/Frameworks/R.framework/Versions/Current/Resources/bin/R pogos.buildbin-libdir
###
##############################################################################
##############################################################################


>>>>>>> 
>>>>>>> INSTALLATION WITH 'R CMD INSTALL --preclean --no-multiarch --library=pogos.buildbin-libdir pogos_1.12.0.tar.gz'
>>>>>>> 

* installing *source* package ‘pogos’ ...
** using staged installation
** R
** data
*** moving datasets to lazyload DB
** inst
** byte-compile and prepare package for lazy loading
** help
*** installing help indices
** building package indices
** installing vignettes
** testing if installed package can be loaded from temporary location
** testing if installed package can be loaded from final location
** testing if installed package keeps a record of temporary installation path
* DONE (pogos)