Back to Multiple platform build/check report for BioC 3.13
ABCDEFGHIJKLMNO[P]QRSTUVWXYZ

This page was generated on 2021-07-23 15:06:15 -0400 (Fri, 23 Jul 2021).

BUILD results for plethy on tokay2

To the developers/maintainers of the plethy package:
- Please allow up to 24 hours (and sometimes 48 hours) for your latest push to git@git.bioconductor.org:packages/plethy.git to
reflect on this report. See How and When does the builder pull? When will my changes propagate? here for more information.
- Make sure to use the following settings in order to reproduce any error or warning you see on this page.

raw results

Package 1400/2041HostnameOS / ArchINSTALLBUILDCHECKBUILD BIN
plethy 1.30.0  (landing page)
Daniel Bottomly
Snapshot Date: 2021-07-22 04:50:13 -0400 (Thu, 22 Jul 2021)
URL: https://git.bioconductor.org/packages/plethy
Branch: RELEASE_3_13
Last Commit: fa08dc1
Last Changed Date: 2021-05-19 11:58:57 -0400 (Wed, 19 May 2021)
nebbiolo1Linux (Ubuntu 20.04.2 LTS) / x86_64  OK    OK    OK  UNNEEDED, same version is already published
tokay2Windows Server 2012 R2 Standard / x64  OK    OK    OK    OK  UNNEEDED, same version is already published
machv2macOS 10.14.6 Mojave / x86_64  OK    OK    OK    OK  UNNEEDED, same version is already published

Summary

Package: plethy
Version: 1.30.0
Command: chmod a+r plethy -R && C:\Users\biocbuild\bbs-3.13-bioc\R\bin\R.exe CMD build --keep-empty-dirs --no-resave-data plethy
StartedAt: 2021-07-22 17:06:07 -0400 (Thu, 22 Jul 2021)
EndedAt: 2021-07-22 17:06:45 -0400 (Thu, 22 Jul 2021)
EllapsedTime: 38.1 seconds
RetCode: 0
Status:   OK  
PackageFile: plethy_1.30.0.tar.gz
PackageFileSize: 1.013 MiB

Command output

##############################################################################
##############################################################################
###
### Running command:
###
###   chmod a+r plethy -R && C:\Users\biocbuild\bbs-3.13-bioc\R\bin\R.exe CMD build --keep-empty-dirs --no-resave-data plethy
###
##############################################################################
##############################################################################


* checking for file 'plethy/DESCRIPTION' ... OK
* preparing 'plethy':
* checking DESCRIPTION meta-information ... OK
* installing the package to build vignettes
* creating vignettes ... OK
* checking for LF line-endings in source and make files and shell scripts
* checking for empty or unneeded directories
* building 'plethy_1.30.0.tar.gz'