Back to Multiple platform build/check report for BioC 3.13
ABCDEFGHIJKLMNO[P]QRSTUVWXYZ

This page was generated on 2021-07-23 15:05:47 -0400 (Fri, 23 Jul 2021).

INSTALL results for plethy on nebbiolo1

To the developers/maintainers of the plethy package:
- Please allow up to 24 hours (and sometimes 48 hours) for your latest push to git@git.bioconductor.org:packages/plethy.git to
reflect on this report. See How and When does the builder pull? When will my changes propagate? here for more information.
- Make sure to use the following settings in order to reproduce any error or warning you see on this page.

raw results

Package 1400/2041HostnameOS / ArchINSTALLBUILDCHECKBUILD BIN
plethy 1.30.0  (landing page)
Daniel Bottomly
Snapshot Date: 2021-07-22 04:50:13 -0400 (Thu, 22 Jul 2021)
URL: https://git.bioconductor.org/packages/plethy
Branch: RELEASE_3_13
Last Commit: fa08dc1
Last Changed Date: 2021-05-19 11:58:57 -0400 (Wed, 19 May 2021)
nebbiolo1Linux (Ubuntu 20.04.2 LTS) / x86_64  OK    OK    OK  UNNEEDED, same version is already published
tokay2Windows Server 2012 R2 Standard / x64  OK    OK    OK    OK  UNNEEDED, same version is already published
machv2macOS 10.14.6 Mojave / x86_64  OK    OK    OK    OK  UNNEEDED, same version is already published

Summary

Package: plethy
Version: 1.30.0
Command: /home/biocbuild/bbs-3.13-bioc/R/bin/R CMD INSTALL plethy
StartedAt: 2021-07-22 06:07:34 -0400 (Thu, 22 Jul 2021)
EndedAt: 2021-07-22 06:07:47 -0400 (Thu, 22 Jul 2021)
EllapsedTime: 13.4 seconds
RetCode: 0
Status:   OK  

Command output

##############################################################################
##############################################################################
###
### Running command:
###
###   /home/biocbuild/bbs-3.13-bioc/R/bin/R CMD INSTALL plethy
###
##############################################################################
##############################################################################


* installing to library ‘/home/biocbuild/bbs-3.13-bioc/R/library’
* installing *source* package ‘plethy’ ...
** using staged installation
** R
** inst
** byte-compile and prepare package for lazy loading
** help
*** installing help indices
** building package indices
** installing vignettes
** testing if installed package can be loaded from temporary location
** testing if installed package can be loaded from final location
** testing if installed package keeps a record of temporary installation path
* DONE (plethy)