Back to Multiple platform build/check report for BioC 3.13
ABCDEFGHIJKLMNO[P]QRSTUVWXYZ

This page was generated on 2021-07-23 15:06:45 -0400 (Fri, 23 Jul 2021).

CHECK results for plethy on machv2

To the developers/maintainers of the plethy package:
- Please allow up to 24 hours (and sometimes 48 hours) for your latest push to git@git.bioconductor.org:packages/plethy.git to
reflect on this report. See How and When does the builder pull? When will my changes propagate? here for more information.
- Make sure to use the following settings in order to reproduce any error or warning you see on this page.

raw results

Package 1400/2041HostnameOS / ArchINSTALLBUILDCHECKBUILD BIN
plethy 1.30.0  (landing page)
Daniel Bottomly
Snapshot Date: 2021-07-22 04:50:13 -0400 (Thu, 22 Jul 2021)
URL: https://git.bioconductor.org/packages/plethy
Branch: RELEASE_3_13
Last Commit: fa08dc1
Last Changed Date: 2021-05-19 11:58:57 -0400 (Wed, 19 May 2021)
nebbiolo1Linux (Ubuntu 20.04.2 LTS) / x86_64  OK    OK    OK  UNNEEDED, same version is already published
tokay2Windows Server 2012 R2 Standard / x64  OK    OK    OK    OK  UNNEEDED, same version is already published
machv2macOS 10.14.6 Mojave / x86_64  OK    OK    OK    OK  UNNEEDED, same version is already published

Summary

Package: plethy
Version: 1.30.0
Command: /Library/Frameworks/R.framework/Versions/Current/Resources/bin/R CMD check --install=check:plethy.install-out.txt --library=/Library/Frameworks/R.framework/Versions/Current/Resources/library --no-vignettes --timings plethy_1.30.0.tar.gz
StartedAt: 2021-07-22 22:03:19 -0400 (Thu, 22 Jul 2021)
EndedAt: 2021-07-22 22:06:53 -0400 (Thu, 22 Jul 2021)
EllapsedTime: 214.3 seconds
RetCode: 0
Status:   OK  
CheckDir: plethy.Rcheck
Warnings: 0

Command output

##############################################################################
##############################################################################
###
### Running command:
###
###   /Library/Frameworks/R.framework/Versions/Current/Resources/bin/R CMD check --install=check:plethy.install-out.txt --library=/Library/Frameworks/R.framework/Versions/Current/Resources/library --no-vignettes --timings plethy_1.30.0.tar.gz
###
##############################################################################
##############################################################################


* using log directory ‘/Users/biocbuild/bbs-3.13-bioc/meat/plethy.Rcheck’
* using R version 4.1.0 (2021-05-18)
* using platform: x86_64-apple-darwin17.0 (64-bit)
* using session charset: UTF-8
* using option ‘--no-vignettes’
* checking for file ‘plethy/DESCRIPTION’ ... OK
* this is package ‘plethy’ version ‘1.30.0’
* checking package namespace information ... OK
* checking package dependencies ... OK
* checking if this is a source package ... OK
* checking if there is a namespace ... OK
* checking for hidden files and directories ... NOTE
Found the following hidden files and directories:
  .git_fetch_output.txt
  .git_merge_output.txt
These were most likely included in error. See section ‘Package
structure’ in the ‘Writing R Extensions’ manual.
* checking for portable file names ... OK
* checking for sufficient/correct file permissions ... OK
* checking whether package ‘plethy’ can be installed ... OK
* checking installed package size ... OK
* checking package directory ... OK
* checking ‘build’ directory ... OK
* checking DESCRIPTION meta-information ... OK
* checking top-level files ... OK
* checking for left-over files ... OK
* checking index information ... OK
* checking package subdirectories ... OK
* checking R files for non-ASCII characters ... OK
* checking R files for syntax errors ... OK
* checking whether the package can be loaded ... OK
* checking whether the package can be loaded with stated dependencies ... OK
* checking whether the package can be unloaded cleanly ... OK
* checking whether the namespace can be loaded with stated dependencies ... OK
* checking whether the namespace can be unloaded cleanly ... OK
* checking dependencies in R code ... NOTE
There are ::: calls to the package's namespace in its code. A package
  almost never needs to use ::: for its own objects:
  ‘csv.to.table’ ‘find.break.ranges.integer’ ‘fix.time’ ‘multi.grep’
* checking S3 generic/method consistency ... OK
* checking replacement functions ... OK
* checking foreign function calls ... OK
* checking R code for possible problems ... NOTE
generate.sample.buxco : <anonymous> : <anonymous> : <anonymous> :
  <anonymous>: no visible global function definition for ‘rnorm’
make.db.package: no visible global function definition for
  ‘packageDescription’
mvtsplot.data.frame: no visible global function definition for ‘colors’
mvtsplot.data.frame: no visible global function definition for ‘par’
mvtsplot.data.frame: no visible global function definition for ‘layout’
mvtsplot.data.frame: no visible global function definition for
  ‘strwidth’
mvtsplot.data.frame: no visible global function definition for ‘abline’
mvtsplot.data.frame: no visible global function definition for ‘mtext’
mvtsplot.data.frame: no visible global function definition for ‘bxp’
mvtsplot.data.frame : <anonymous>: no visible binding for global
  variable ‘median’
mvtsplot.data.frame: no visible global function definition for ‘lines’
mvtsplot.data.frame: no visible global function definition for ‘Axis’
mvtsplot.data.frame: no visible global function definition for ‘legend’
retrieveMatrix,BuxcoDB: no visible global function definition for
  ‘terms’
tsplot,BuxcoDB: no visible binding for global variable ‘Days’
tsplot,BuxcoDB: no visible binding for global variable ‘Value’
tsplot,BuxcoDB: no visible binding for global variable ‘Sample_Name’
Undefined global functions or variables:
  Axis Days Sample_Name Value abline bxp colors layout legend lines
  median mtext packageDescription par rnorm strwidth terms
Consider adding
  importFrom("grDevices", "colors")
  importFrom("graphics", "Axis", "abline", "bxp", "layout", "legend",
             "lines", "mtext", "par", "strwidth")
  importFrom("stats", "median", "rnorm", "terms")
  importFrom("utils", "packageDescription")
to your NAMESPACE file.
* checking Rd files ... OK
* checking Rd metadata ... OK
* checking Rd cross-references ... OK
* checking for missing documentation entries ... OK
* checking for code/documentation mismatches ... OK
* checking Rd \usage sections ... OK
* checking Rd contents ... OK
* checking for unstated dependencies in examples ... OK
* checking sizes of PDF files under ‘inst/doc’ ... OK
* checking files in ‘vignettes’ ... OK
* checking examples ... OK
Examples with CPU (user + system) or elapsed time > 5s
           user system elapsed
utilities 5.162  0.857   6.095
* checking for unstated dependencies in ‘tests’ ... OK
* checking tests ...
  Running ‘runTests.R’
 OK
* checking for unstated dependencies in vignettes ... OK
* checking package vignettes in ‘inst/doc’ ... OK
* checking running R code from vignettes ... SKIPPED
* checking re-building of vignette outputs ... SKIPPED
* checking PDF version of manual ... OK
* DONE

Status: 3 NOTEs
See
  ‘/Users/biocbuild/bbs-3.13-bioc/meat/plethy.Rcheck/00check.log’
for details.



Installation output

plethy.Rcheck/00install.out

##############################################################################
##############################################################################
###
### Running command:
###
###   /Library/Frameworks/R.framework/Versions/Current/Resources/bin/R CMD INSTALL plethy
###
##############################################################################
##############################################################################


* installing to library ‘/Library/Frameworks/R.framework/Versions/4.1/Resources/library’
* installing *source* package ‘plethy’ ...
** using staged installation
** R
** inst
** byte-compile and prepare package for lazy loading
** help
*** installing help indices
** building package indices
** installing vignettes
** testing if installed package can be loaded from temporary location
** testing if installed package can be loaded from final location
** testing if installed package keeps a record of temporary installation path
* DONE (plethy)

Tests output

plethy.Rcheck/tests/runTests.Rout


R version 4.1.0 (2021-05-18) -- "Camp Pontanezen"
Copyright (C) 2021 The R Foundation for Statistical Computing
Platform: x86_64-apple-darwin17.0 (64-bit)

R is free software and comes with ABSOLUTELY NO WARRANTY.
You are welcome to redistribute it under certain conditions.
Type 'license()' or 'licence()' for distribution details.

R is a collaborative project with many contributors.
Type 'contributors()' for more information and
'citation()' on how to cite R or R packages in publications.

Type 'demo()' for some demos, 'help()' for on-line help, or
'help.start()' for an HTML browser interface to help.
Type 'q()' to quit R.

> BiocGenerics:::testPackage("plethy")

Attaching package: 'BiocGenerics'

The following objects are masked from 'package:parallel':

    clusterApply, clusterApplyLB, clusterCall, clusterEvalQ,
    clusterExport, clusterMap, parApply, parCapply, parLapply,
    parLapplyLB, parRapply, parSapply, parSapplyLB

The following objects are masked from 'package:stats':

    IQR, mad, sd, var, xtabs

The following objects are masked from 'package:base':

    Filter, Find, Map, Position, Reduce, anyDuplicated, append,
    as.data.frame, basename, cbind, colnames, dirname, do.call,
    duplicated, eval, evalq, get, grep, grepl, intersect, is.unsorted,
    lapply, mapply, match, mget, order, paste, pmax, pmax.int, pmin,
    pmin.int, rank, rbind, rownames, sapply, setdiff, sort, table,
    tapply, union, unique, unsplit, which.max, which.min


Attaching package: 'S4Vectors'

The following objects are masked from 'package:base':

    I, expand.grid, unname

Loading required package: reshape2
Processing /tmp/Rtmp2yd6DT/filec9e87dea850c in chunks of 10000
Starting chunk 1
Reached breakpoint change
Processing breakpoint 1
Starting sample sample_1
Sample written
Processing breakpoint 2
Starting sample sample_1
Sample written
Starting sample sample_2
Sample written
Processing breakpoint 3
Starting sample sample_2
Sample written
Starting sample sample_3
Sample written
Processing breakpoint 4
Starting sample sample_1
Sample written
Starting sample sample_3
Sample written
Processing breakpoint 5
Starting sample sample_1
Sample written
Starting sample sample_2
Sample written
Processing breakpoint 6
Starting sample sample_2
Sample written
Starting sample sample_3
Sample written
Reached the end of the file, writing remaining data
Starting sample sample_3
Sample written
Processing /tmp/Rtmp2yd6DT/filec9e894a313 in chunks of 10000
Starting chunk 1
Reached breakpoint change
Processing breakpoint 1
Starting sample sample_1
Sample written
Reached the end of the file, writing remaining data
Starting sample sample_1
Sample written
Starting sample sample_2
Sample written
Starting sample sample_3
Sample written
Processing /tmp/Rtmp2yd6DT/filec9e83ad5600a in chunks of 10000
Starting chunk 1
Reached breakpoint change
Processing breakpoint 1
Starting sample sample_4
Sample written
Processing breakpoint 2
Starting sample sample_4
Sample written
Starting sample sample_5
Sample written
Reached the end of the file, writing remaining data
Starting sample sample_5
Sample written
Processing /tmp/Rtmp2yd6DT/filec9e86d902079 in chunks of 10000
Starting chunk 1
Reached breakpoint change
Processing breakpoint 1
Starting sample sample_1
Sample written
Processing breakpoint 2
Starting sample sample_1
Sample written
Starting sample sample_2
Sample written
Processing breakpoint 3
Starting sample sample_2
Sample written
Starting sample sample_3
Sample written
Processing breakpoint 4
Starting sample sample_3
Sample written
Starting sample sample_4
Sample written
Processing breakpoint 5
Starting sample sample_2
Sample written
Starting sample sample_4
Sample written
Reached the end of the file, writing remaining data
Starting sample sample_2
Sample written
Starting sample sample_5
Sample written
Processing /tmp/Rtmp2yd6DT/filec9e84cf846c8 in chunks of 10000
Starting chunk 1
Reached breakpoint change
Processing breakpoint 1
Starting sample sample_1
Sample written
Processing breakpoint 2
Starting sample sample_2
Sample written
Processing breakpoint 3
Starting sample sample_1
Sample written
Processing breakpoint 4
Starting sample sample_2
Sample written
Processing breakpoint 5
Starting sample sample_1
Sample written
Processing breakpoint 6
Starting sample sample_2
Sample written
Processing breakpoint 7
Starting sample sample_1
Sample written
Reached the end of the file, writing remaining data
Starting sample sample_2
Sample written


RUNIT TEST PROTOCOL -- Thu Jul 22 22:06:46 2021 
*********************************************** 
Number of test functions: 23 
Number of errors: 0 
Number of failures: 0 

 
1 Test Suite : 
plethy RUnit Tests - 23 test functions, 0 errors, 0 failures
Number of test functions: 23 
Number of errors: 0 
Number of failures: 0 
Warning message:
call dbDisconnect() when finished working with a connection 
> 
> proc.time()
   user  system elapsed 
 71.248  11.745  83.185 

Example timings

plethy.Rcheck/plethy-Ex.timings

nameusersystemelapsed
BuxcoDB1.1290.1001.232
add_query_funcs0.3780.0250.403
dbImport0.5290.0360.570
parsing3.0090.7453.765
plethy2.8970.7513.658
utilities5.1620.8576.095