Back to Multiple platform build/check report for BioC 3.13
ABCDEFGHIJKLMNO[P]QRSTUVWXYZ

This page was generated on 2021-08-04 15:05:50 -0400 (Wed, 04 Aug 2021).

BUILD results for pkgDepTools on tokay2

To the developers/maintainers of the pkgDepTools package:
- Please allow up to 24 hours (and sometimes 48 hours) for your latest push to git@git.bioconductor.org:packages/pkgDepTools.git to
reflect on this report. See How and When does the builder pull? When will my changes propagate? here for more information.
- Make sure to use the following settings in order to reproduce any error or warning you see on this page.

raw results

Package 1398/2041HostnameOS / ArchINSTALLBUILDCHECKBUILD BIN
pkgDepTools 1.58.0  (landing page)
Bioconductor Package Maintainer
Snapshot Date: 2021-08-03 04:50:12 -0400 (Tue, 03 Aug 2021)
URL: https://git.bioconductor.org/packages/pkgDepTools
Branch: RELEASE_3_13
Last Commit: 706a7e5
Last Changed Date: 2021-05-19 11:38:05 -0400 (Wed, 19 May 2021)
nebbiolo1Linux (Ubuntu 20.04.2 LTS) / x86_64  OK    OK    OK  UNNEEDED, same version is already published
tokay2Windows Server 2012 R2 Standard / x64  OK    OK    OK    OK  UNNEEDED, same version is already published
machv2macOS 10.14.6 Mojave / x86_64  OK    OK    OK    OK  UNNEEDED, same version is already published

Summary

Package: pkgDepTools
Version: 1.58.0
Command: chmod a+r pkgDepTools -R && C:\Users\biocbuild\bbs-3.13-bioc\R\bin\R.exe CMD build --keep-empty-dirs --no-resave-data pkgDepTools
StartedAt: 2021-08-03 17:16:38 -0400 (Tue, 03 Aug 2021)
EndedAt: 2021-08-03 17:38:52 -0400 (Tue, 03 Aug 2021)
EllapsedTime: 1334.1 seconds
RetCode: 0
Status:   OK  
PackageFile: pkgDepTools_1.58.0.tar.gz
PackageFileSize: 178.9 KiB

Command output

##############################################################################
##############################################################################
###
### Running command:
###
###   chmod a+r pkgDepTools -R && C:\Users\biocbuild\bbs-3.13-bioc\R\bin\R.exe CMD build --keep-empty-dirs --no-resave-data pkgDepTools
###
##############################################################################
##############################################################################


* checking for file 'pkgDepTools/DESCRIPTION' ... OK
* preparing 'pkgDepTools':
* checking DESCRIPTION meta-information ... OK
* installing the package to build vignettes
* creating vignettes ... OK
* checking for LF line-endings in source and make files and shell scripts
* checking for empty or unneeded directories
* building 'pkgDepTools_1.58.0.tar.gz'