Back to Multiple platform build/check report for BioC 3.13
ABCDEFGHIJKLMNO[P]QRSTUVWXYZ

This page was generated on 2021-06-18 14:06:54 -0400 (Fri, 18 Jun 2021).

BUILD results for piano on machv2

To the developers/maintainers of the piano package:
- Please allow up to 24 hours (and sometimes 48 hours) for your latest push to git@git.bioconductor.org:packages/piano.git to
reflect on this report. See How and When does the builder pull? When will my changes propagate? here for more information.
- Make sure to use the following settings in order to reproduce any error or warning you see on this page.

raw results

Package 1391/2041HostnameOS / ArchINSTALLBUILDCHECKBUILD BIN
piano 2.8.0  (landing page)
Leif Varemo Wigge
Snapshot Date: 2021-06-17 06:50:12 -0400 (Thu, 17 Jun 2021)
URL: https://git.bioconductor.org/packages/piano
Branch: RELEASE_3_13
Last Commit: f9697f5
Last Changed Date: 2021-05-19 11:58:37 -0400 (Wed, 19 May 2021)
nebbiolo1Linux (Ubuntu 20.04.2 LTS) / x86_64  OK    OK    WARNINGS  UNNEEDED, same version is already published
tokay2Windows Server 2012 R2 Standard / x64  OK    OK    WARNINGS    OK  UNNEEDED, same version is already published
machv2macOS 10.14.6 Mojave / x86_64  OK    OK    OK    OK  UNNEEDED, same version is already published

Summary

Package: piano
Version: 2.8.0
Command: /Library/Frameworks/R.framework/Versions/Current/Resources/bin/R CMD build --keep-empty-dirs --no-resave-data piano
StartedAt: 2021-06-17 13:39:06 -0400 (Thu, 17 Jun 2021)
EndedAt: 2021-06-17 13:40:05 -0400 (Thu, 17 Jun 2021)
EllapsedTime: 59.0 seconds
RetCode: 0
Status:   OK  
PackageFile: piano_2.8.0.tar.gz
PackageFileSize: 1.548 MiB

Command output

##############################################################################
##############################################################################
###
### Running command:
###
###   /Library/Frameworks/R.framework/Versions/Current/Resources/bin/R CMD build --keep-empty-dirs --no-resave-data piano
###
##############################################################################
##############################################################################


* checking for file ‘piano/DESCRIPTION’ ... OK
* preparing ‘piano’:
* checking DESCRIPTION meta-information ... OK
* installing the package to build vignettes
* creating vignettes ... OK
* checking for LF line-endings in source and make files and shell scripts
* checking for empty or unneeded directories
* looking to see if a ‘data/datalist’ file should be added
* building ‘piano_2.8.0.tar.gz’