Back to Multiple platform build/check report for BioC 3.13
ABCDEFGHIJKLMNO[P]QRSTUVWXYZ

BUILD report for phenoTest on riesling1

This page was generated on 2021-05-10 12:14:18 -0400 (Mon, 10 May 2021).

To the developers/maintainers of the phenoTest package:
Please make sure to use the following settings in order to reproduce any error or warning you see on this page.
Package 1365/2016HostnameOS / ArchINSTALLBUILDCHECKBUILD BIN
phenoTest 1.39.1  (landing page)
Evarist Planet
Snapshot Date: 2021-05-09 14:50:05 -0400 (Sun, 09 May 2021)
URL: https://git.bioconductor.org/packages/phenoTest
Branch: master
Last Commit: 171109d
Last Changed Date: 2021-01-27 07:51:58 -0400 (Wed, 27 Jan 2021)
nebbiolo1Linux (Ubuntu 20.04.2 LTS) / x86_64  OK    OK    OK  UNNEEDED, same version exists in internal repository
riesling1Windows Server 2019 Standard / x64  OK    OK    OK    OK  UNNEEDED, same version exists in internal repository
machv2macOS 10.14.6 Mojave / x86_64  OK    OK    OK    OK  UNNEEDED, same version exists in internal repository

Summary

Package: phenoTest
Version: 1.39.1
Command: chmod a+r phenoTest -R && D:\biocbuild\bbs-3.13-bioc\R\bin\R.exe CMD build --keep-empty-dirs --no-resave-data phenoTest
StartedAt: 2021-05-09 21:22:32 -0400 (Sun, 09 May 2021)
EndedAt: 2021-05-09 21:25:05 -0400 (Sun, 09 May 2021)
EllapsedTime: 153.1 seconds
RetCode: 0
Status:   OK   
PackageFile: phenoTest_1.39.1.tar.gz
PackageFileSize: 1.124 MiB

Command output

##############################################################################
##############################################################################
###
### Running command:
###
###   chmod a+r phenoTest -R && D:\biocbuild\bbs-3.13-bioc\R\bin\R.exe CMD build --keep-empty-dirs --no-resave-data phenoTest
###
##############################################################################
##############################################################################


* checking for file 'phenoTest/DESCRIPTION' ... OK
* preparing 'phenoTest':
* checking DESCRIPTION meta-information ... OK
* installing the package to build vignettes
* creating vignettes ... OK
* checking for LF line-endings in source and make files and shell scripts
* checking for empty or unneeded directories
* looking to see if a 'data/datalist' file should be added
* building 'phenoTest_1.39.1.tar.gz'