Back to Multiple platform build/check report for BioC 3.13
ABCDEFGHIJKLMNO[P]QRSTUVWXYZ

BUILD BIN report for phenoTest on riesling1

This page was generated on 2021-05-10 12:14:18 -0400 (Mon, 10 May 2021).

To the developers/maintainers of the phenoTest package:
Please make sure to use the following settings in order to reproduce any error or warning you see on this page.
Package 1365/2016HostnameOS / ArchINSTALLBUILDCHECKBUILD BIN
phenoTest 1.39.1  (landing page)
Evarist Planet
Snapshot Date: 2021-05-09 14:50:05 -0400 (Sun, 09 May 2021)
URL: https://git.bioconductor.org/packages/phenoTest
Branch: master
Last Commit: 171109d
Last Changed Date: 2021-01-27 07:51:58 -0400 (Wed, 27 Jan 2021)
nebbiolo1Linux (Ubuntu 20.04.2 LTS) / x86_64  OK    OK    OK  UNNEEDED, same version exists in internal repository
riesling1Windows Server 2019 Standard / x64  OK    OK    OK    OK  UNNEEDED, same version exists in internal repository
machv2macOS 10.14.6 Mojave / x86_64  OK    OK    OK    OK  UNNEEDED, same version exists in internal repository

Summary

Package: phenoTest
Version: 1.39.1
Command: rm -rf phenoTest.buildbin-libdir && mkdir phenoTest.buildbin-libdir && D:\biocbuild\bbs-3.13-bioc\R\bin\R.exe CMD INSTALL --merge-multiarch --build --library=phenoTest.buildbin-libdir phenoTest_1.39.1.tar.gz
StartedAt: 2021-05-10 04:43:19 -0400 (Mon, 10 May 2021)
EndedAt: 2021-05-10 04:47:08 -0400 (Mon, 10 May 2021)
EllapsedTime: 228.9 seconds
RetCode: 0
Status:   OK   
PackageFile: phenoTest_1.39.1.zip
PackageFileSize: 1.881 MiB

Command output

##############################################################################
##############################################################################
###
### Running command:
###
###   rm -rf phenoTest.buildbin-libdir && mkdir phenoTest.buildbin-libdir && D:\biocbuild\bbs-3.13-bioc\R\bin\R.exe CMD INSTALL --merge-multiarch --build --library=phenoTest.buildbin-libdir phenoTest_1.39.1.tar.gz
###
##############################################################################
##############################################################################



install for i386

* installing *source* package 'phenoTest' ...
** using staged installation
** R
** data
** inst
** byte-compile and prepare package for lazy loading
** help
*** installing help indices
  converting help for package 'phenoTest'
    finding HTML links ... done
    ClusterPhenoTest                        html  
    ExpressionPhenoTest                     html  
    barplotSignatures-methods               html  
    barplotSignifSignatures-methods         html  
    epheno-class                            html  
    finding level-2 HTML links ... done

    epheno                                  html  
    epheno2html                             html  
    ephenoGetters                           html  
    eset                                    html  
    eset.genelevel                          html  
    eset2genelevel                          html  
    export2CSV-methods                      html  
    export2CSV                              html  
    findCopyNumber                          html  
    genesInArea                             html  
    getEsPositions                          html  
    getGseaSignatures                       html  
    getVars2test-methods                    html  
    getVars2test                            html  
    gsea                                    html  
    gsea.subset                             html  
    gsea2html                               html  
    gseaData-class                          html  
    gseaSignatures-class                    html  
    gseaSignatures-methods                  html  
    gseaSignatures                          html  
    gseaSignaturesSign-class                html  
    gseaSignaturesVar-class                 html  
    gseaSignificance                        html  
    gseaSignificanceSign-class              html  
    gseaSignificanceVar-class               html  
    heatmapPhenoTest-methods                html  
    heatmapPhenoTest                        html  
    pAdjust-methods                         html  
    pAdjust                                 html  
    pca                                     html  
    phenoTest-package                       html  
    plot.gsea                               html  
    plot.gseaSignatures                     html  
    plots4epheno                            html  
    show-methods                            html  
    smoothCoxph                             html  
    summary.gsea                            html  
    summary.gseaSignificance                html  
    write.html                              html  
** building package indices
** installing vignettes
** testing if installed package can be loaded from temporary location
** testing if installed package can be loaded from final location
** testing if installed package keeps a record of temporary installation path

install for x64

* installing *source* package 'phenoTest' ...
** testing if installed package can be loaded
* MD5 sums
packaged installation of 'phenoTest' as phenoTest_1.39.1.zip
* DONE (phenoTest)