Back to Multiple platform build/check report for BioC 3.13
ABCDEFGHIJKLMNO[P]QRSTUVWXYZ

BUILD BIN report for phenoTest on machv2

This page was generated on 2021-05-10 12:14:45 -0400 (Mon, 10 May 2021).

To the developers/maintainers of the phenoTest package:
Please make sure to use the following settings in order to reproduce any error or warning you see on this page.
Package 1365/2016HostnameOS / ArchINSTALLBUILDCHECKBUILD BIN
phenoTest 1.39.1  (landing page)
Evarist Planet
Snapshot Date: 2021-05-09 14:50:05 -0400 (Sun, 09 May 2021)
URL: https://git.bioconductor.org/packages/phenoTest
Branch: master
Last Commit: 171109d
Last Changed Date: 2021-01-27 07:51:58 -0400 (Wed, 27 Jan 2021)
nebbiolo1Linux (Ubuntu 20.04.2 LTS) / x86_64  OK    OK    OK  UNNEEDED, same version exists in internal repository
riesling1Windows Server 2019 Standard / x64  OK    OK    OK    OK  UNNEEDED, same version exists in internal repository
machv2macOS 10.14.6 Mojave / x86_64  OK    OK    OK    OK  UNNEEDED, same version exists in internal repository

Summary

Package: phenoTest
Version: 1.39.1
Command: rm -rf phenoTest.buildbin-libdir && mkdir phenoTest.buildbin-libdir && /Users/biocbuild/BBS/utils/build-universal.sh phenoTest_1.39.1.tar.gz /Library/Frameworks/R.framework/Versions/Current/Resources/bin/R phenoTest.buildbin-libdir
StartedAt: 2021-05-10 10:12:41 -0400 (Mon, 10 May 2021)
EndedAt: 2021-05-10 10:13:37 -0400 (Mon, 10 May 2021)
EllapsedTime: 56.7 seconds
RetCode: 0
Status:   OK  
PackageFile: phenoTest_1.39.1.tgz
PackageFileSize: 1.797 MiB

Command output

##############################################################################
##############################################################################
###
### Running command:
###
###   rm -rf phenoTest.buildbin-libdir && mkdir phenoTest.buildbin-libdir && /Users/biocbuild/BBS/utils/build-universal.sh phenoTest_1.39.1.tar.gz /Library/Frameworks/R.framework/Versions/Current/Resources/bin/R phenoTest.buildbin-libdir
###
##############################################################################
##############################################################################


>>>>>>> 
>>>>>>> INSTALLATION WITH 'R CMD INSTALL --preclean --no-multiarch --library=phenoTest.buildbin-libdir phenoTest_1.39.1.tar.gz'
>>>>>>> 

* installing *source* package ‘phenoTest’ ...
** using staged installation
** R
** data
** inst
** byte-compile and prepare package for lazy loading
** help
*** installing help indices
** building package indices
** installing vignettes
** testing if installed package can be loaded from temporary location
** testing if installed package can be loaded from final location
** testing if installed package keeps a record of temporary installation path
* DONE (phenoTest)