Back to Multiple platform build/check report for BioC 3.13
ABCDEFGHIJKLMNO[P]QRSTUVWXYZ

This page was generated on 2021-07-23 15:06:14 -0400 (Fri, 23 Jul 2021).

BUILD BIN results for pathRender on tokay2

To the developers/maintainers of the pathRender package:
- Please allow up to 24 hours (and sometimes 48 hours) for your latest push to git@git.bioconductor.org:packages/pathRender.git to
reflect on this report. See How and When does the builder pull? When will my changes propagate? here for more information.
- Make sure to use the following settings in order to reproduce any error or warning you see on this page.

raw results

Package 1351/2041HostnameOS / ArchINSTALLBUILDCHECKBUILD BIN
pathRender 1.60.0  (landing page)
Vince Carey
Snapshot Date: 2021-07-22 04:50:13 -0400 (Thu, 22 Jul 2021)
URL: https://git.bioconductor.org/packages/pathRender
Branch: RELEASE_3_13
Last Commit: a976baf
Last Changed Date: 2021-05-19 11:36:44 -0400 (Wed, 19 May 2021)
nebbiolo1Linux (Ubuntu 20.04.2 LTS) / x86_64  OK    OK    OK  UNNEEDED, same version is already published
tokay2Windows Server 2012 R2 Standard / x64  OK    OK    OK    OK  UNNEEDED, same version is already published
machv2macOS 10.14.6 Mojave / x86_64  OK    OK    OK    OK  UNNEEDED, same version is already published

Summary

Package: pathRender
Version: 1.60.0
Command: rm -rf pathRender.buildbin-libdir && mkdir pathRender.buildbin-libdir && C:\Users\biocbuild\bbs-3.13-bioc\R\bin\R.exe CMD INSTALL --merge-multiarch --build --library=pathRender.buildbin-libdir pathRender_1.60.0.tar.gz
StartedAt: 2021-07-23 10:56:05 -0400 (Fri, 23 Jul 2021)
EndedAt: 2021-07-23 10:57:09 -0400 (Fri, 23 Jul 2021)
EllapsedTime: 63.8 seconds
RetCode: 0
Status:   OK  
PackageFile: pathRender_1.60.0.zip
PackageFileSize: 250.1 KiB

Command output

##############################################################################
##############################################################################
###
### Running command:
###
###   rm -rf pathRender.buildbin-libdir && mkdir pathRender.buildbin-libdir && C:\Users\biocbuild\bbs-3.13-bioc\R\bin\R.exe CMD INSTALL --merge-multiarch --build --library=pathRender.buildbin-libdir pathRender_1.60.0.tar.gz
###
##############################################################################
##############################################################################



install for i386

* installing *source* package 'pathRender' ...
** using staged installation
** R
** inst
** byte-compile and prepare package for lazy loading
** help
*** installing help indices
  converting help for package 'pathRender'
    finding HTML links ... done
    colorNodes                              html  
    coloredGraph-class                      html  
    graphcMAP                               html  
    plotExGraph                             html  
    pwayGraph-class                         html  
    reduceES                                html  
    rendercMAP                              html  
** building package indices
** installing vignettes
** testing if installed package can be loaded from temporary location
** testing if installed package can be loaded from final location
** testing if installed package keeps a record of temporary installation path

install for x64

* installing *source* package 'pathRender' ...
** testing if installed package can be loaded
* MD5 sums
packaged installation of 'pathRender' as pathRender_1.60.0.zip
* DONE (pathRender)