Index of /checkResults/3.13/bioc-LATEST/pathRender/raw-results/tokay2

[ICO]NameLast modifiedSizeDescription

[DIR]Parent Directory  -  
[TXT]buildbin-out.txt23-Sep-2021 04:05 1.7K 
[   ]buildbin-summary.dcf23-Sep-2021 04:05 557  
[TXT]buildsrc-out.txt23-Sep-2021 04:05 860  
[   ]buildsrc-summary.dcf23-Sep-2021 04:05 470  
[TXT]checksrc-out.txt23-Sep-2021 04:05 5.8K 
[   ]checksrc-summary.dcf23-Sep-2021 04:05 474  
[TXT]install-out.txt23-Sep-2021 04:05 2.4K 
[   ]install-summary.dcf23-Sep-2021 04:05 667