Index of /checkResults/3.13/bioc-LATEST/pathRender/raw-results/nebbiolo1

[ICO]NameLast modifiedSizeDescription

[DIR]Parent Directory  -  
[   ]install-summary.dcf16-Oct-2021 04:05 265  
[   ]buildsrc-summary.dcf16-Oct-2021 04:05 424  
[   ]checksrc-summary.dcf16-Oct-2021 04:05 436  
[TXT]buildsrc-out.txt16-Oct-2021 04:05 818  
[TXT]install-out.txt16-Oct-2021 04:05 956  
[TXT]checksrc-out.txt16-Oct-2021 04:05 5.3K