Index of /checkResults/3.13/bioc-LATEST/pathRender/raw-results/nebbiolo1

[ICO]NameLast modifiedSizeDescription

[DIR]Parent Directory  -  
[TXT]buildsrc-out.txt23-Sep-2021 04:04 818  
[   ]buildsrc-summary.dcf23-Sep-2021 04:04 426  
[TXT]checksrc-out.txt23-Sep-2021 04:04 5.3K 
[   ]checksrc-summary.dcf23-Sep-2021 04:04 436  
[TXT]install-out.txt23-Sep-2021 04:04 956  
[   ]install-summary.dcf23-Sep-2021 04:04 265