Index of /checkResults/3.13/bioc-LATEST/pathRender/raw-results/machv2

[ICO]NameLast modifiedSizeDescription

[DIR]Parent Directory  -  
[TXT]install-out.txt16-Oct-2021 04:06 1.0K 
[   ]install-summary.dcf16-Oct-2021 04:06 292  
[TXT]buildsrc-out.txt16-Oct-2021 04:06 845  
[   ]buildsrc-summary.dcf16-Oct-2021 04:06 453  
[TXT]checksrc-out.txt16-Oct-2021 04:06 5.7K 
[   ]checksrc-summary.dcf16-Oct-2021 04:06 490  
[TXT]buildbin-out.txt16-Oct-2021 04:06 1.2K 
[   ]buildbin-summary.dcf16-Oct-2021 04:06 565