Back to Multiple platform build/check report for BioC 3.13
ABCDEFGHIJKLMNO[P]QRSTUVWXYZ

This page was generated on 2021-09-17 15:06:47 -0400 (Fri, 17 Sep 2021).

BUILD results for pathRender on machv2

To the developers/maintainers of the pathRender package:
- Please allow up to 24 hours (and sometimes 48 hours) for your latest push to git@git.bioconductor.org:packages/pathRender.git to
reflect on this report. See How and When does the builder pull? When will my changes propagate? here for more information.
- Make sure to use the following settings in order to reproduce any error or warning you see on this page.

raw results

Package 1351/2041HostnameOS / ArchINSTALLBUILDCHECKBUILD BIN
pathRender 1.60.0  (landing page)
Vince Carey
Snapshot Date: 2021-09-16 04:50:11 -0400 (Thu, 16 Sep 2021)
git_url: https://git.bioconductor.org/packages/pathRender
git_branch: RELEASE_3_13
git_last_commit: a976baf
git_last_commit_date: 2021-05-19 11:36:44 -0400 (Wed, 19 May 2021)
nebbiolo1Linux (Ubuntu 20.04.2 LTS) / x86_64  OK    OK    OK  UNNEEDED, same version is already published
tokay2Windows Server 2012 R2 Standard / x64  OK    OK    OK    OK  UNNEEDED, same version is already published
machv2macOS 10.14.6 Mojave / x86_64  OK    OK    OK    OK  UNNEEDED, same version is already published

Summary

Package: pathRender
Version: 1.60.0
Command: /Library/Frameworks/R.framework/Versions/Current/Resources/bin/R CMD build --keep-empty-dirs --no-resave-data pathRender
StartedAt: 2021-09-16 13:48:52 -0400 (Thu, 16 Sep 2021)
EndedAt: 2021-09-16 13:49:40 -0400 (Thu, 16 Sep 2021)
EllapsedTime: 48.7 seconds
RetCode: 0
Status:   OK  
PackageFile: pathRender_1.60.0.tar.gz
PackageFileSize: 198.4 KiB

Command output

##############################################################################
##############################################################################
###
### Running command:
###
###   /Library/Frameworks/R.framework/Versions/Current/Resources/bin/R CMD build --keep-empty-dirs --no-resave-data pathRender
###
##############################################################################
##############################################################################


* checking for file ‘pathRender/DESCRIPTION’ ... OK
* preparing ‘pathRender’:
* checking DESCRIPTION meta-information ... OK
* installing the package to build vignettes
* creating vignettes ... OK
* checking for LF line-endings in source and make files and shell scripts
* checking for empty or unneeded directories
* building ‘pathRender_1.60.0.tar.gz’