Back to Multiple platform build/check report for BioC 3.13
ABCDEFGHIJKLMN[O]PQRSTUVWXYZ

BUILD BIN results for ontoProc on machv2

This page was generated on 2021-06-11 14:06:42 -0400 (Fri, 11 Jun 2021).

Package 1311/2041HostnameOS / ArchINSTALLBUILDCHECKBUILD BIN
ontoProc 1.14.0  (landing page)
VJ Carey
Snapshot Date: 2021-06-10 06:50:12 -0400 (Thu, 10 Jun 2021)
URL: https://git.bioconductor.org/packages/ontoProc
Branch: RELEASE_3_13
Last Commit: 2ba1033
Last Changed Date: 2021-05-19 12:31:28 -0400 (Wed, 19 May 2021)
nebbiolo1Linux (Ubuntu 20.04.2 LTS) / x86_64  OK    OK    OK  UNNEEDED, same version is already published
tokay2Windows Server 2012 R2 Standard / x64  OK    OK    OK    OK  UNNEEDED, same version is already published
machv2macOS 10.14.6 Mojave / x86_64  OK    OK    OK    OK  UNNEEDED, same version is already published
To the developers/maintainers of the ontoProc package:
- Please allow up to 24 hours (and sometimes 48 hours) for your latest push to git@git.bioconductor.org:packages/ontoProc.git to
reflect on this report. See How and When does the builder pull? When will my changes propagate? here for more information.
- Make sure to use the following settings in order to reproduce any error or warning you see on this page.

Summary

Package: ontoProc
Version: 1.14.0
Command: rm -rf ontoProc.buildbin-libdir && mkdir ontoProc.buildbin-libdir && /Users/biocbuild/BBS/utils/build-universal.sh ontoProc_1.14.0.tar.gz /Library/Frameworks/R.framework/Versions/Current/Resources/bin/R ontoProc.buildbin-libdir
StartedAt: 2021-06-11 02:48:22 -0400 (Fri, 11 Jun 2021)
EndedAt: 2021-06-11 02:49:06 -0400 (Fri, 11 Jun 2021)
EllapsedTime: 43.3 seconds
RetCode: 0
Status:   OK  
PackageFile: ontoProc_1.14.0.tgz
PackageFileSize: 39.95 MiB

Command output

##############################################################################
##############################################################################
###
### Running command:
###
###   rm -rf ontoProc.buildbin-libdir && mkdir ontoProc.buildbin-libdir && /Users/biocbuild/BBS/utils/build-universal.sh ontoProc_1.14.0.tar.gz /Library/Frameworks/R.framework/Versions/Current/Resources/bin/R ontoProc.buildbin-libdir
###
##############################################################################
##############################################################################


>>>>>>> 
>>>>>>> INSTALLATION WITH 'R CMD INSTALL --preclean --no-multiarch --library=ontoProc.buildbin-libdir ontoProc_1.14.0.tar.gz'
>>>>>>> 

* installing *source* package ‘ontoProc’ ...
** using staged installation
** R
** data
*** moving datasets to lazyload DB
** inst
** byte-compile and prepare package for lazy loading
** help
*** installing help indices
** building package indices
** installing vignettes
** testing if installed package can be loaded from temporary location
** testing if installed package can be loaded from final location
** testing if installed package keeps a record of temporary installation path
* DONE (ontoProc)