Back to Multiple platform build/check report for BioC 3.13
ABCDEFGHIJKL[M]NOPQRSTUVWXYZ

This page was generated on 2021-07-23 15:06:12 -0400 (Fri, 23 Jul 2021).

INSTALL results for multiGSEA on tokay2

To the developers/maintainers of the multiGSEA package:
- Please allow up to 24 hours (and sometimes 48 hours) for your latest push to git@git.bioconductor.org:packages/multiGSEA.git to
reflect on this report. See How and When does the builder pull? When will my changes propagate? here for more information.
- Make sure to use the following settings in order to reproduce any error or warning you see on this page.

raw results

Package 1223/2041HostnameOS / ArchINSTALLBUILDCHECKBUILD BIN
multiGSEA 1.2.0  (landing page)
Sebastian Canzler
Snapshot Date: 2021-07-22 04:50:13 -0400 (Thu, 22 Jul 2021)
URL: https://git.bioconductor.org/packages/multiGSEA
Branch: RELEASE_3_13
Last Commit: db2c0e1
Last Changed Date: 2021-05-19 12:53:28 -0400 (Wed, 19 May 2021)
nebbiolo1Linux (Ubuntu 20.04.2 LTS) / x86_64  OK    OK    OK  UNNEEDED, same version is already published
tokay2Windows Server 2012 R2 Standard / x64  OK    OK    OK    OK  UNNEEDED, same version is already published
machv2macOS 10.14.6 Mojave / x86_64  OK    OK    OK    OK  UNNEEDED, same version is already published

Summary

Package: multiGSEA
Version: 1.2.0
Command: C:\cygwin\bin\curl.exe -O http://155.52.207.165/BBS/3.13/bioc/src/contrib/multiGSEA_1.2.0.tar.gz && rm -rf multiGSEA.buildbin-libdir && mkdir multiGSEA.buildbin-libdir && C:\Users\biocbuild\bbs-3.13-bioc\R\bin\R.exe CMD INSTALL --merge-multiarch --build --library=multiGSEA.buildbin-libdir multiGSEA_1.2.0.tar.gz && C:\Users\biocbuild\bbs-3.13-bioc\R\bin\R.exe CMD INSTALL multiGSEA_1.2.0.zip && rm multiGSEA_1.2.0.tar.gz multiGSEA_1.2.0.zip
StartedAt: 2021-07-22 09:24:25 -0400 (Thu, 22 Jul 2021)
EndedAt: 2021-07-22 09:25:20 -0400 (Thu, 22 Jul 2021)
EllapsedTime: 55.2 seconds
RetCode: 0
Status:   OK  

Command output

##############################################################################
##############################################################################
###
### Running command:
###
###   C:\cygwin\bin\curl.exe -O http://155.52.207.165/BBS/3.13/bioc/src/contrib/multiGSEA_1.2.0.tar.gz && rm -rf multiGSEA.buildbin-libdir && mkdir multiGSEA.buildbin-libdir && C:\Users\biocbuild\bbs-3.13-bioc\R\bin\R.exe CMD INSTALL --merge-multiarch --build --library=multiGSEA.buildbin-libdir multiGSEA_1.2.0.tar.gz && C:\Users\biocbuild\bbs-3.13-bioc\R\bin\R.exe CMD INSTALL multiGSEA_1.2.0.zip && rm multiGSEA_1.2.0.tar.gz multiGSEA_1.2.0.zip
###
##############################################################################
##############################################################################


  % Total    % Received % Xferd  Average Speed   Time    Time     Time  Current
                                 Dload  Upload   Total   Spent    Left  Speed

  0     0    0     0    0     0      0      0 --:--:-- --:--:-- --:--:--     0
100  649k  100  649k    0     0  2258k      0 --:--:-- --:--:-- --:--:-- 2269k

install for i386

* installing *source* package 'multiGSEA' ...
** using staged installation
** R
** data
** inst
** byte-compile and prepare package for lazy loading
** help
*** installing help indices
  converting help for package 'multiGSEA'
    finding HTML links ... done
    archiveDir                              html  
    archivePath                             html  
    combinePvalues                          html  
    extractPvalues                          html  
    getFeatures                             html  
    getGeneMapping                          html  
    getIDMappingDatabase                    html  
    getMappedFeatures                       html  
    getMetaboliteMapping                    html  
    getMultiOmicsFeatures                   html  
    getOrganisms                            html  
    initOmicsDataStructure                  html  
    loadLocal                               html  
    mapIDType                               html  
    metabolome                              html  
    multiGSEA                               html  
    proteome                                html  
    rankFeatures                            html  
    rename_duplicates                       html  
    transcriptome                           html  
** building package indices
** installing vignettes
** testing if installed package can be loaded from temporary location
** testing if installed package can be loaded from final location
** testing if installed package keeps a record of temporary installation path

install for x64

* installing *source* package 'multiGSEA' ...
** testing if installed package can be loaded
* MD5 sums
packaged installation of 'multiGSEA' as multiGSEA_1.2.0.zip
* DONE (multiGSEA)
* installing to library 'C:/Users/biocbuild/bbs-3.13-bioc/R/library'
package 'multiGSEA' successfully unpacked and MD5 sums checked