Back to Multiple platform build/check report for BioC 3.13
ABCDEFGHIJKL[M]NOPQRSTUVWXYZ

This page was generated on 2021-06-18 14:05:52 -0400 (Fri, 18 Jun 2021).

BUILD results for multiGSEA on nebbiolo1

To the developers/maintainers of the multiGSEA package:
- Please allow up to 24 hours (and sometimes 48 hours) for your latest push to git@git.bioconductor.org:packages/multiGSEA.git to
reflect on this report. See How and When does the builder pull? When will my changes propagate? here for more information.
- Make sure to use the following settings in order to reproduce any error or warning you see on this page.

raw results

Package 1223/2041HostnameOS / ArchINSTALLBUILDCHECKBUILD BIN
multiGSEA 1.2.0  (landing page)
Sebastian Canzler
Snapshot Date: 2021-06-17 06:50:12 -0400 (Thu, 17 Jun 2021)
URL: https://git.bioconductor.org/packages/multiGSEA
Branch: RELEASE_3_13
Last Commit: db2c0e1
Last Changed Date: 2021-05-19 12:53:28 -0400 (Wed, 19 May 2021)
nebbiolo1Linux (Ubuntu 20.04.2 LTS) / x86_64  OK    OK    OK  UNNEEDED, same version is already published
tokay2Windows Server 2012 R2 Standard / x64  OK    OK    OK    OK  UNNEEDED, same version is already published
machv2macOS 10.14.6 Mojave / x86_64  OK    OK    OK    OK  UNNEEDED, same version is already published

Summary

Package: multiGSEA
Version: 1.2.0
Command: /home/biocbuild/bbs-3.13-bioc/R/bin/R CMD build --keep-empty-dirs --no-resave-data multiGSEA
StartedAt: 2021-06-17 09:49:19 -0400 (Thu, 17 Jun 2021)
EndedAt: 2021-06-17 09:54:36 -0400 (Thu, 17 Jun 2021)
EllapsedTime: 317.1 seconds
RetCode: 0
Status:   OK  
PackageFile: multiGSEA_1.2.0.tar.gz
PackageFileSize: 936.6 KiB

Command output

##############################################################################
##############################################################################
###
### Running command:
###
###   /home/biocbuild/bbs-3.13-bioc/R/bin/R CMD build --keep-empty-dirs --no-resave-data multiGSEA
###
##############################################################################
##############################################################################


* checking for file ‘multiGSEA/DESCRIPTION’ ... OK
* preparing ‘multiGSEA’:
* checking DESCRIPTION meta-information ... OK
* installing the package to build vignettes
* creating vignettes ... OK
* checking for LF line-endings in source and make files and shell scripts
* checking for empty or unneeded directories
* looking to see if a ‘data/datalist’ file should be added
* building ‘multiGSEA_1.2.0.tar.gz’