Back to Multiple platform build/check report for BioC 3.13
ABCDEFGHIJKL[M]NOPQRSTUVWXYZ

BUILD results for multiGSEA on machv2

This page was generated on 2021-06-14 14:05:47 -0400 (Mon, 14 Jun 2021).

Package 1223/2041HostnameOS / ArchINSTALLBUILDCHECKBUILD BIN
multiGSEA 1.2.0  (landing page)
Sebastian Canzler
Snapshot Date: 2021-06-13 06:50:09 -0400 (Sun, 13 Jun 2021)
URL: https://git.bioconductor.org/packages/multiGSEA
Branch: RELEASE_3_13
Last Commit: db2c0e1
Last Changed Date: 2021-05-19 12:53:28 -0400 (Wed, 19 May 2021)
nebbiolo1Linux (Ubuntu 20.04.2 LTS) / x86_64  OK    OK    OK  UNNEEDED, same version is already published
tokay2Windows Server 2012 R2 Standard / x64  OK    OK    OK    OK  UNNEEDED, same version is already published
machv2macOS 10.14.6 Mojave / x86_64  OK    OK    OK    OK  UNNEEDED, same version is already published
To the developers/maintainers of the multiGSEA package:
- Please allow up to 24 hours (and sometimes 48 hours) for your latest push to git@git.bioconductor.org:packages/multiGSEA.git to
reflect on this report. See How and When does the builder pull? When will my changes propagate? here for more information.
- Make sure to use the following settings in order to reproduce any error or warning you see on this page.

Summary

Package: multiGSEA
Version: 1.2.0
Command: /Library/Frameworks/R.framework/Versions/Current/Resources/bin/R CMD build --keep-empty-dirs --no-resave-data multiGSEA
StartedAt: 2021-06-13 13:06:19 -0400 (Sun, 13 Jun 2021)
EndedAt: 2021-06-13 13:13:35 -0400 (Sun, 13 Jun 2021)
EllapsedTime: 435.6 seconds
RetCode: 0
Status:   OK  
PackageFile: multiGSEA_1.2.0.tar.gz
PackageFileSize: 936.3 KiB

Command output

##############################################################################
##############################################################################
###
### Running command:
###
###   /Library/Frameworks/R.framework/Versions/Current/Resources/bin/R CMD build --keep-empty-dirs --no-resave-data multiGSEA
###
##############################################################################
##############################################################################


* checking for file ‘multiGSEA/DESCRIPTION’ ... OK
* preparing ‘multiGSEA’:
* checking DESCRIPTION meta-information ... OK
* installing the package to build vignettes
* creating vignettes ... OK
* checking for LF line-endings in source and make files and shell scripts
* checking for empty or unneeded directories
* looking to see if a ‘data/datalist’ file should be added
* building ‘multiGSEA_1.2.0.tar.gz’